BEGIN:VCALENDAR
VERSION:2.0
PRODID:-//Cape Cod Family Resource Center - ECPv6.15.20//NONSGML v1.0//EN
CALSCALE:GREGORIAN
METHOD:PUBLISH
X-ORIGINAL-URL:https://capecodfamilyresourcecenter.org
X-WR-CALDESC:Events for Cape Cod Family Resource Center
REFRESH-INTERVAL;VALUE=DURATION:PT1H
X-Robots-Tag:noindex
X-PUBLISHED-TTL:PT1H
BEGIN:VTIMEZONE
TZID:America/New_York
BEGIN:DAYLIGHT
TZOFFSETFROM:-0500
TZOFFSETTO:-0400
TZNAME:EDT
DTSTART:20260308T070000
END:DAYLIGHT
BEGIN:STANDARD
TZOFFSETFROM:-0400
TZOFFSETTO:-0500
TZNAME:EST
DTSTART:20261101T060000
END:STANDARD
BEGIN:DAYLIGHT
TZOFFSETFROM:-0500
TZOFFSETTO:-0400
TZNAME:EDT
DTSTART:20270314T070000
END:DAYLIGHT
BEGIN:STANDARD
TZOFFSETFROM:-0400
TZOFFSETTO:-0500
TZNAME:EST
DTSTART:20271107T060000
END:STANDARD
BEGIN:DAYLIGHT
TZOFFSETFROM:-0500
TZOFFSETTO:-0400
TZNAME:EDT
DTSTART:20280312T070000
END:DAYLIGHT
BEGIN:STANDARD
TZOFFSETFROM:-0400
TZOFFSETTO:-0500
TZNAME:EST
DTSTART:20281105T060000
END:STANDARD
BEGIN:DAYLIGHT
TZOFFSETFROM:-0500
TZOFFSETTO:-0400
TZNAME:EDT
DTSTART:20290311T070000
END:DAYLIGHT
BEGIN:STANDARD
TZOFFSETFROM:-0400
TZOFFSETTO:-0500
TZNAME:EST
DTSTART:20291104T060000
END:STANDARD
END:VTIMEZONE
BEGIN:VEVENT
DTSTART;TZID=America/New_York:20271206T153000
DTEND;TZID=America/New_York:20271206T173000
DTSTAMP:20260425T125353
CREATED:20250531T134612Z
LAST-MODIFIED:20250923T215331Z
UID:10000134-1828107000-1828114200@capecodfamilyresourcecenter.org
SUMMARY:Thrive!
DESCRIPTION:A welcoming center for youth 22 and under\, offering peer-led\, adult-supported groups for LGBTQ+ youth. Enjoy drop-in hours\, meetings\, field trips\, special events\, and more—all in a safe\, inclusive space that celebrates individuality\, connection\, and community. \nCall (508) 778-7744 to register.
URL:https://capecodfamilyresourcecenter.org/event/thrive/2027-12-06/
LOCATION:We Thrive\, Cape Cod’s LGBTQ+ Youth Center\, 56 Barnstable Road\, Hyannis\, MA\, 02601\, United States
CATEGORIES:For Children & Teens
END:VEVENT
BEGIN:VEVENT
DTSTART;TZID=America/New_York:20271213T153000
DTEND;TZID=America/New_York:20271213T173000
DTSTAMP:20260425T125353
CREATED:20250531T134612Z
LAST-MODIFIED:20250923T215331Z
UID:10000135-1828711800-1828719000@capecodfamilyresourcecenter.org
SUMMARY:Thrive!
DESCRIPTION:A welcoming center for youth 22 and under\, offering peer-led\, adult-supported groups for LGBTQ+ youth. Enjoy drop-in hours\, meetings\, field trips\, special events\, and more—all in a safe\, inclusive space that celebrates individuality\, connection\, and community. \nCall (508) 778-7744 to register.
URL:https://capecodfamilyresourcecenter.org/event/thrive/2027-12-13/
LOCATION:We Thrive\, Cape Cod’s LGBTQ+ Youth Center\, 56 Barnstable Road\, Hyannis\, MA\, 02601\, United States
CATEGORIES:For Children & Teens
END:VEVENT
BEGIN:VEVENT
DTSTART;TZID=America/New_York:20271220T153000
DTEND;TZID=America/New_York:20271220T173000
DTSTAMP:20260425T125353
CREATED:20250531T134612Z
LAST-MODIFIED:20250923T215331Z
UID:10000136-1829316600-1829323800@capecodfamilyresourcecenter.org
SUMMARY:Thrive!
DESCRIPTION:A welcoming center for youth 22 and under\, offering peer-led\, adult-supported groups for LGBTQ+ youth. Enjoy drop-in hours\, meetings\, field trips\, special events\, and more—all in a safe\, inclusive space that celebrates individuality\, connection\, and community. \nCall (508) 778-7744 to register.
URL:https://capecodfamilyresourcecenter.org/event/thrive/2027-12-20/
LOCATION:We Thrive\, Cape Cod’s LGBTQ+ Youth Center\, 56 Barnstable Road\, Hyannis\, MA\, 02601\, United States
CATEGORIES:For Children & Teens
END:VEVENT
BEGIN:VEVENT
DTSTART;TZID=America/New_York:20271227T153000
DTEND;TZID=America/New_York:20271227T173000
DTSTAMP:20260425T125353
CREATED:20250531T134612Z
LAST-MODIFIED:20250923T215331Z
UID:10000137-1829921400-1829928600@capecodfamilyresourcecenter.org
SUMMARY:Thrive!
DESCRIPTION:A welcoming center for youth 22 and under\, offering peer-led\, adult-supported groups for LGBTQ+ youth. Enjoy drop-in hours\, meetings\, field trips\, special events\, and more—all in a safe\, inclusive space that celebrates individuality\, connection\, and community. \nCall (508) 778-7744 to register.
URL:https://capecodfamilyresourcecenter.org/event/thrive/2027-12-27/
LOCATION:We Thrive\, Cape Cod’s LGBTQ+ Youth Center\, 56 Barnstable Road\, Hyannis\, MA\, 02601\, United States
CATEGORIES:For Children & Teens
END:VEVENT
BEGIN:VEVENT
DTSTART;TZID=America/New_York:20280103T153000
DTEND;TZID=America/New_York:20280103T173000
DTSTAMP:20260425T125353
CREATED:20250531T134612Z
LAST-MODIFIED:20250923T215331Z
UID:10000138-1830526200-1830533400@capecodfamilyresourcecenter.org
SUMMARY:Thrive!
DESCRIPTION:A welcoming center for youth 22 and under\, offering peer-led\, adult-supported groups for LGBTQ+ youth. Enjoy drop-in hours\, meetings\, field trips\, special events\, and more—all in a safe\, inclusive space that celebrates individuality\, connection\, and community. \nCall (508) 778-7744 to register.
URL:https://capecodfamilyresourcecenter.org/event/thrive/2028-01-03/
LOCATION:We Thrive\, Cape Cod’s LGBTQ+ Youth Center\, 56 Barnstable Road\, Hyannis\, MA\, 02601\, United States
CATEGORIES:For Children & Teens
END:VEVENT
BEGIN:VEVENT
DTSTART;TZID=America/New_York:20280110T153000
DTEND;TZID=America/New_York:20280110T173000
DTSTAMP:20260425T125353
CREATED:20250531T134612Z
LAST-MODIFIED:20250923T215331Z
UID:10000139-1831131000-1831138200@capecodfamilyresourcecenter.org
SUMMARY:Thrive!
DESCRIPTION:A welcoming center for youth 22 and under\, offering peer-led\, adult-supported groups for LGBTQ+ youth. Enjoy drop-in hours\, meetings\, field trips\, special events\, and more—all in a safe\, inclusive space that celebrates individuality\, connection\, and community. \nCall (508) 778-7744 to register.
URL:https://capecodfamilyresourcecenter.org/event/thrive/2028-01-10/
LOCATION:We Thrive\, Cape Cod’s LGBTQ+ Youth Center\, 56 Barnstable Road\, Hyannis\, MA\, 02601\, United States
CATEGORIES:For Children & Teens
END:VEVENT
BEGIN:VEVENT
DTSTART;TZID=America/New_York:20280117T153000
DTEND;TZID=America/New_York:20280117T173000
DTSTAMP:20260425T125353
CREATED:20250531T134612Z
LAST-MODIFIED:20250923T215331Z
UID:10000140-1831735800-1831743000@capecodfamilyresourcecenter.org
SUMMARY:Thrive!
DESCRIPTION:A welcoming center for youth 22 and under\, offering peer-led\, adult-supported groups for LGBTQ+ youth. Enjoy drop-in hours\, meetings\, field trips\, special events\, and more—all in a safe\, inclusive space that celebrates individuality\, connection\, and community. \nCall (508) 778-7744 to register.
URL:https://capecodfamilyresourcecenter.org/event/thrive/2028-01-17/
LOCATION:We Thrive\, Cape Cod’s LGBTQ+ Youth Center\, 56 Barnstable Road\, Hyannis\, MA\, 02601\, United States
CATEGORIES:For Children & Teens
END:VEVENT
BEGIN:VEVENT
DTSTART;TZID=America/New_York:20280124T153000
DTEND;TZID=America/New_York:20280124T173000
DTSTAMP:20260425T125353
CREATED:20250531T134612Z
LAST-MODIFIED:20250923T215331Z
UID:10000141-1832340600-1832347800@capecodfamilyresourcecenter.org
SUMMARY:Thrive!
DESCRIPTION:A welcoming center for youth 22 and under\, offering peer-led\, adult-supported groups for LGBTQ+ youth. Enjoy drop-in hours\, meetings\, field trips\, special events\, and more—all in a safe\, inclusive space that celebrates individuality\, connection\, and community. \nCall (508) 778-7744 to register.
URL:https://capecodfamilyresourcecenter.org/event/thrive/2028-01-24/
LOCATION:We Thrive\, Cape Cod’s LGBTQ+ Youth Center\, 56 Barnstable Road\, Hyannis\, MA\, 02601\, United States
CATEGORIES:For Children & Teens
END:VEVENT
BEGIN:VEVENT
DTSTART;TZID=America/New_York:20280131T153000
DTEND;TZID=America/New_York:20280131T173000
DTSTAMP:20260425T125353
CREATED:20250531T134612Z
LAST-MODIFIED:20250923T215331Z
UID:10000142-1832945400-1832952600@capecodfamilyresourcecenter.org
SUMMARY:Thrive!
DESCRIPTION:A welcoming center for youth 22 and under\, offering peer-led\, adult-supported groups for LGBTQ+ youth. Enjoy drop-in hours\, meetings\, field trips\, special events\, and more—all in a safe\, inclusive space that celebrates individuality\, connection\, and community. \nCall (508) 778-7744 to register.
URL:https://capecodfamilyresourcecenter.org/event/thrive/2028-01-31/
LOCATION:We Thrive\, Cape Cod’s LGBTQ+ Youth Center\, 56 Barnstable Road\, Hyannis\, MA\, 02601\, United States
CATEGORIES:For Children & Teens
END:VEVENT
BEGIN:VEVENT
DTSTART;TZID=America/New_York:20280207T153000
DTEND;TZID=America/New_York:20280207T173000
DTSTAMP:20260425T125353
CREATED:20250531T134612Z
LAST-MODIFIED:20250923T215331Z
UID:10000143-1833550200-1833557400@capecodfamilyresourcecenter.org
SUMMARY:Thrive!
DESCRIPTION:A welcoming center for youth 22 and under\, offering peer-led\, adult-supported groups for LGBTQ+ youth. Enjoy drop-in hours\, meetings\, field trips\, special events\, and more—all in a safe\, inclusive space that celebrates individuality\, connection\, and community. \nCall (508) 778-7744 to register.
URL:https://capecodfamilyresourcecenter.org/event/thrive/2028-02-07/
LOCATION:We Thrive\, Cape Cod’s LGBTQ+ Youth Center\, 56 Barnstable Road\, Hyannis\, MA\, 02601\, United States
CATEGORIES:For Children & Teens
END:VEVENT
BEGIN:VEVENT
DTSTART;TZID=America/New_York:20280214T153000
DTEND;TZID=America/New_York:20280214T173000
DTSTAMP:20260425T125353
CREATED:20250531T134612Z
LAST-MODIFIED:20250923T215331Z
UID:10000144-1834155000-1834162200@capecodfamilyresourcecenter.org
SUMMARY:Thrive!
DESCRIPTION:A welcoming center for youth 22 and under\, offering peer-led\, adult-supported groups for LGBTQ+ youth. Enjoy drop-in hours\, meetings\, field trips\, special events\, and more—all in a safe\, inclusive space that celebrates individuality\, connection\, and community. \nCall (508) 778-7744 to register.
URL:https://capecodfamilyresourcecenter.org/event/thrive/2028-02-14/
LOCATION:We Thrive\, Cape Cod’s LGBTQ+ Youth Center\, 56 Barnstable Road\, Hyannis\, MA\, 02601\, United States
CATEGORIES:For Children & Teens
END:VEVENT
BEGIN:VEVENT
DTSTART;TZID=America/New_York:20280221T153000
DTEND;TZID=America/New_York:20280221T173000
DTSTAMP:20260425T125353
CREATED:20250531T134612Z
LAST-MODIFIED:20250923T215331Z
UID:10000145-1834759800-1834767000@capecodfamilyresourcecenter.org
SUMMARY:Thrive!
DESCRIPTION:A welcoming center for youth 22 and under\, offering peer-led\, adult-supported groups for LGBTQ+ youth. Enjoy drop-in hours\, meetings\, field trips\, special events\, and more—all in a safe\, inclusive space that celebrates individuality\, connection\, and community. \nCall (508) 778-7744 to register.
URL:https://capecodfamilyresourcecenter.org/event/thrive/2028-02-21/
LOCATION:We Thrive\, Cape Cod’s LGBTQ+ Youth Center\, 56 Barnstable Road\, Hyannis\, MA\, 02601\, United States
CATEGORIES:For Children & Teens
END:VEVENT
BEGIN:VEVENT
DTSTART;TZID=America/New_York:20280228T153000
DTEND;TZID=America/New_York:20280228T173000
DTSTAMP:20260425T125353
CREATED:20250531T134612Z
LAST-MODIFIED:20250923T215331Z
UID:10000146-1835364600-1835371800@capecodfamilyresourcecenter.org
SUMMARY:Thrive!
DESCRIPTION:A welcoming center for youth 22 and under\, offering peer-led\, adult-supported groups for LGBTQ+ youth. Enjoy drop-in hours\, meetings\, field trips\, special events\, and more—all in a safe\, inclusive space that celebrates individuality\, connection\, and community. \nCall (508) 778-7744 to register.
URL:https://capecodfamilyresourcecenter.org/event/thrive/2028-02-28/
LOCATION:We Thrive\, Cape Cod’s LGBTQ+ Youth Center\, 56 Barnstable Road\, Hyannis\, MA\, 02601\, United States
CATEGORIES:For Children & Teens
END:VEVENT
BEGIN:VEVENT
DTSTART;TZID=America/New_York:20280306T153000
DTEND;TZID=America/New_York:20280306T173000
DTSTAMP:20260425T125353
CREATED:20250531T134612Z
LAST-MODIFIED:20250923T215331Z
UID:10000147-1835969400-1835976600@capecodfamilyresourcecenter.org
SUMMARY:Thrive!
DESCRIPTION:A welcoming center for youth 22 and under\, offering peer-led\, adult-supported groups for LGBTQ+ youth. Enjoy drop-in hours\, meetings\, field trips\, special events\, and more—all in a safe\, inclusive space that celebrates individuality\, connection\, and community. \nCall (508) 778-7744 to register.
URL:https://capecodfamilyresourcecenter.org/event/thrive/2028-03-06/
LOCATION:We Thrive\, Cape Cod’s LGBTQ+ Youth Center\, 56 Barnstable Road\, Hyannis\, MA\, 02601\, United States
CATEGORIES:For Children & Teens
END:VEVENT
BEGIN:VEVENT
DTSTART;TZID=America/New_York:20280313T153000
DTEND;TZID=America/New_York:20280313T173000
DTSTAMP:20260425T125353
CREATED:20250531T134612Z
LAST-MODIFIED:20250923T215331Z
UID:10000148-1836574200-1836581400@capecodfamilyresourcecenter.org
SUMMARY:Thrive!
DESCRIPTION:A welcoming center for youth 22 and under\, offering peer-led\, adult-supported groups for LGBTQ+ youth. Enjoy drop-in hours\, meetings\, field trips\, special events\, and more—all in a safe\, inclusive space that celebrates individuality\, connection\, and community. \nCall (508) 778-7744 to register.
URL:https://capecodfamilyresourcecenter.org/event/thrive/2028-03-13/
LOCATION:We Thrive\, Cape Cod’s LGBTQ+ Youth Center\, 56 Barnstable Road\, Hyannis\, MA\, 02601\, United States
CATEGORIES:For Children & Teens
END:VEVENT
BEGIN:VEVENT
DTSTART;TZID=America/New_York:20280320T153000
DTEND;TZID=America/New_York:20280320T173000
DTSTAMP:20260425T125353
CREATED:20250531T134612Z
LAST-MODIFIED:20250923T215331Z
UID:10000149-1837179000-1837186200@capecodfamilyresourcecenter.org
SUMMARY:Thrive!
DESCRIPTION:A welcoming center for youth 22 and under\, offering peer-led\, adult-supported groups for LGBTQ+ youth. Enjoy drop-in hours\, meetings\, field trips\, special events\, and more—all in a safe\, inclusive space that celebrates individuality\, connection\, and community. \nCall (508) 778-7744 to register.
URL:https://capecodfamilyresourcecenter.org/event/thrive/2028-03-20/
LOCATION:We Thrive\, Cape Cod’s LGBTQ+ Youth Center\, 56 Barnstable Road\, Hyannis\, MA\, 02601\, United States
CATEGORIES:For Children & Teens
END:VEVENT
BEGIN:VEVENT
DTSTART;TZID=America/New_York:20280327T153000
DTEND;TZID=America/New_York:20280327T173000
DTSTAMP:20260425T125353
CREATED:20250531T134612Z
LAST-MODIFIED:20250923T215331Z
UID:10000150-1837783800-1837791000@capecodfamilyresourcecenter.org
SUMMARY:Thrive!
DESCRIPTION:A welcoming center for youth 22 and under\, offering peer-led\, adult-supported groups for LGBTQ+ youth. Enjoy drop-in hours\, meetings\, field trips\, special events\, and more—all in a safe\, inclusive space that celebrates individuality\, connection\, and community. \nCall (508) 778-7744 to register.
URL:https://capecodfamilyresourcecenter.org/event/thrive/2028-03-27/
LOCATION:We Thrive\, Cape Cod’s LGBTQ+ Youth Center\, 56 Barnstable Road\, Hyannis\, MA\, 02601\, United States
CATEGORIES:For Children & Teens
END:VEVENT
BEGIN:VEVENT
DTSTART;TZID=America/New_York:20280403T153000
DTEND;TZID=America/New_York:20280403T173000
DTSTAMP:20260425T125353
CREATED:20250531T134612Z
LAST-MODIFIED:20250923T215331Z
UID:10000151-1838388600-1838395800@capecodfamilyresourcecenter.org
SUMMARY:Thrive!
DESCRIPTION:A welcoming center for youth 22 and under\, offering peer-led\, adult-supported groups for LGBTQ+ youth. Enjoy drop-in hours\, meetings\, field trips\, special events\, and more—all in a safe\, inclusive space that celebrates individuality\, connection\, and community. \nCall (508) 778-7744 to register.
URL:https://capecodfamilyresourcecenter.org/event/thrive/2028-04-03/
LOCATION:We Thrive\, Cape Cod’s LGBTQ+ Youth Center\, 56 Barnstable Road\, Hyannis\, MA\, 02601\, United States
CATEGORIES:For Children & Teens
END:VEVENT
BEGIN:VEVENT
DTSTART;TZID=America/New_York:20280410T153000
DTEND;TZID=America/New_York:20280410T173000
DTSTAMP:20260425T125353
CREATED:20250531T134612Z
LAST-MODIFIED:20250923T215331Z
UID:10000152-1838993400-1839000600@capecodfamilyresourcecenter.org
SUMMARY:Thrive!
DESCRIPTION:A welcoming center for youth 22 and under\, offering peer-led\, adult-supported groups for LGBTQ+ youth. Enjoy drop-in hours\, meetings\, field trips\, special events\, and more—all in a safe\, inclusive space that celebrates individuality\, connection\, and community. \nCall (508) 778-7744 to register.
URL:https://capecodfamilyresourcecenter.org/event/thrive/2028-04-10/
LOCATION:We Thrive\, Cape Cod’s LGBTQ+ Youth Center\, 56 Barnstable Road\, Hyannis\, MA\, 02601\, United States
CATEGORIES:For Children & Teens
END:VEVENT
BEGIN:VEVENT
DTSTART;TZID=America/New_York:20280417T153000
DTEND;TZID=America/New_York:20280417T173000
DTSTAMP:20260425T125353
CREATED:20250531T134612Z
LAST-MODIFIED:20250923T215331Z
UID:10000153-1839598200-1839605400@capecodfamilyresourcecenter.org
SUMMARY:Thrive!
DESCRIPTION:A welcoming center for youth 22 and under\, offering peer-led\, adult-supported groups for LGBTQ+ youth. Enjoy drop-in hours\, meetings\, field trips\, special events\, and more—all in a safe\, inclusive space that celebrates individuality\, connection\, and community. \nCall (508) 778-7744 to register.
URL:https://capecodfamilyresourcecenter.org/event/thrive/2028-04-17/
LOCATION:We Thrive\, Cape Cod’s LGBTQ+ Youth Center\, 56 Barnstable Road\, Hyannis\, MA\, 02601\, United States
CATEGORIES:For Children & Teens
END:VEVENT
BEGIN:VEVENT
DTSTART;TZID=America/New_York:20280424T153000
DTEND;TZID=America/New_York:20280424T173000
DTSTAMP:20260425T125353
CREATED:20250531T134612Z
LAST-MODIFIED:20250923T215331Z
UID:10000154-1840203000-1840210200@capecodfamilyresourcecenter.org
SUMMARY:Thrive!
DESCRIPTION:A welcoming center for youth 22 and under\, offering peer-led\, adult-supported groups for LGBTQ+ youth. Enjoy drop-in hours\, meetings\, field trips\, special events\, and more—all in a safe\, inclusive space that celebrates individuality\, connection\, and community. \nCall (508) 778-7744 to register.
URL:https://capecodfamilyresourcecenter.org/event/thrive/2028-04-24/
LOCATION:We Thrive\, Cape Cod’s LGBTQ+ Youth Center\, 56 Barnstable Road\, Hyannis\, MA\, 02601\, United States
CATEGORIES:For Children & Teens
END:VEVENT
BEGIN:VEVENT
DTSTART;TZID=America/New_York:20280501T153000
DTEND;TZID=America/New_York:20280501T173000
DTSTAMP:20260425T125353
CREATED:20250531T134612Z
LAST-MODIFIED:20250923T215331Z
UID:10000155-1840807800-1840815000@capecodfamilyresourcecenter.org
SUMMARY:Thrive!
DESCRIPTION:A welcoming center for youth 22 and under\, offering peer-led\, adult-supported groups for LGBTQ+ youth. Enjoy drop-in hours\, meetings\, field trips\, special events\, and more—all in a safe\, inclusive space that celebrates individuality\, connection\, and community. \nCall (508) 778-7744 to register.
URL:https://capecodfamilyresourcecenter.org/event/thrive/2028-05-01/
LOCATION:We Thrive\, Cape Cod’s LGBTQ+ Youth Center\, 56 Barnstable Road\, Hyannis\, MA\, 02601\, United States
CATEGORIES:For Children & Teens
END:VEVENT
BEGIN:VEVENT
DTSTART;TZID=America/New_York:20280508T153000
DTEND;TZID=America/New_York:20280508T173000
DTSTAMP:20260425T125353
CREATED:20250531T134612Z
LAST-MODIFIED:20250923T215331Z
UID:10000156-1841412600-1841419800@capecodfamilyresourcecenter.org
SUMMARY:Thrive!
DESCRIPTION:A welcoming center for youth 22 and under\, offering peer-led\, adult-supported groups for LGBTQ+ youth. Enjoy drop-in hours\, meetings\, field trips\, special events\, and more—all in a safe\, inclusive space that celebrates individuality\, connection\, and community. \nCall (508) 778-7744 to register.
URL:https://capecodfamilyresourcecenter.org/event/thrive/2028-05-08/
LOCATION:We Thrive\, Cape Cod’s LGBTQ+ Youth Center\, 56 Barnstable Road\, Hyannis\, MA\, 02601\, United States
CATEGORIES:For Children & Teens
END:VEVENT
BEGIN:VEVENT
DTSTART;TZID=America/New_York:20280515T153000
DTEND;TZID=America/New_York:20280515T173000
DTSTAMP:20260425T125353
CREATED:20250531T134612Z
LAST-MODIFIED:20250923T215331Z
UID:10000157-1842017400-1842024600@capecodfamilyresourcecenter.org
SUMMARY:Thrive!
DESCRIPTION:A welcoming center for youth 22 and under\, offering peer-led\, adult-supported groups for LGBTQ+ youth. Enjoy drop-in hours\, meetings\, field trips\, special events\, and more—all in a safe\, inclusive space that celebrates individuality\, connection\, and community. \nCall (508) 778-7744 to register.
URL:https://capecodfamilyresourcecenter.org/event/thrive/2028-05-15/
LOCATION:We Thrive\, Cape Cod’s LGBTQ+ Youth Center\, 56 Barnstable Road\, Hyannis\, MA\, 02601\, United States
CATEGORIES:For Children & Teens
END:VEVENT
BEGIN:VEVENT
DTSTART;TZID=America/New_York:20280522T153000
DTEND;TZID=America/New_York:20280522T173000
DTSTAMP:20260425T125353
CREATED:20250531T134612Z
LAST-MODIFIED:20250923T215331Z
UID:10000158-1842622200-1842629400@capecodfamilyresourcecenter.org
SUMMARY:Thrive!
DESCRIPTION:A welcoming center for youth 22 and under\, offering peer-led\, adult-supported groups for LGBTQ+ youth. Enjoy drop-in hours\, meetings\, field trips\, special events\, and more—all in a safe\, inclusive space that celebrates individuality\, connection\, and community. \nCall (508) 778-7744 to register.
URL:https://capecodfamilyresourcecenter.org/event/thrive/2028-05-22/
LOCATION:We Thrive\, Cape Cod’s LGBTQ+ Youth Center\, 56 Barnstable Road\, Hyannis\, MA\, 02601\, United States
CATEGORIES:For Children & Teens
END:VEVENT
BEGIN:VEVENT
DTSTART;TZID=America/New_York:20280529T153000
DTEND;TZID=America/New_York:20280529T173000
DTSTAMP:20260425T125353
CREATED:20250531T134612Z
LAST-MODIFIED:20250923T215331Z
UID:10000159-1843227000-1843234200@capecodfamilyresourcecenter.org
SUMMARY:Thrive!
DESCRIPTION:A welcoming center for youth 22 and under\, offering peer-led\, adult-supported groups for LGBTQ+ youth. Enjoy drop-in hours\, meetings\, field trips\, special events\, and more—all in a safe\, inclusive space that celebrates individuality\, connection\, and community. \nCall (508) 778-7744 to register.
URL:https://capecodfamilyresourcecenter.org/event/thrive/2028-05-29/
LOCATION:We Thrive\, Cape Cod’s LGBTQ+ Youth Center\, 56 Barnstable Road\, Hyannis\, MA\, 02601\, United States
CATEGORIES:For Children & Teens
END:VEVENT
BEGIN:VEVENT
DTSTART;TZID=America/New_York:20280605T153000
DTEND;TZID=America/New_York:20280605T173000
DTSTAMP:20260425T125353
CREATED:20250531T134612Z
LAST-MODIFIED:20250923T215331Z
UID:10000160-1843831800-1843839000@capecodfamilyresourcecenter.org
SUMMARY:Thrive!
DESCRIPTION:A welcoming center for youth 22 and under\, offering peer-led\, adult-supported groups for LGBTQ+ youth. Enjoy drop-in hours\, meetings\, field trips\, special events\, and more—all in a safe\, inclusive space that celebrates individuality\, connection\, and community. \nCall (508) 778-7744 to register.
URL:https://capecodfamilyresourcecenter.org/event/thrive/2028-06-05/
LOCATION:We Thrive\, Cape Cod’s LGBTQ+ Youth Center\, 56 Barnstable Road\, Hyannis\, MA\, 02601\, United States
CATEGORIES:For Children & Teens
END:VEVENT
BEGIN:VEVENT
DTSTART;TZID=America/New_York:20280612T153000
DTEND;TZID=America/New_York:20280612T173000
DTSTAMP:20260425T125353
CREATED:20250531T134612Z
LAST-MODIFIED:20250923T215331Z
UID:10000161-1844436600-1844443800@capecodfamilyresourcecenter.org
SUMMARY:Thrive!
DESCRIPTION:A welcoming center for youth 22 and under\, offering peer-led\, adult-supported groups for LGBTQ+ youth. Enjoy drop-in hours\, meetings\, field trips\, special events\, and more—all in a safe\, inclusive space that celebrates individuality\, connection\, and community. \nCall (508) 778-7744 to register.
URL:https://capecodfamilyresourcecenter.org/event/thrive/2028-06-12/
LOCATION:We Thrive\, Cape Cod’s LGBTQ+ Youth Center\, 56 Barnstable Road\, Hyannis\, MA\, 02601\, United States
CATEGORIES:For Children & Teens
END:VEVENT
BEGIN:VEVENT
DTSTART;TZID=America/New_York:20280619T153000
DTEND;TZID=America/New_York:20280619T173000
DTSTAMP:20260425T125353
CREATED:20250531T134612Z
LAST-MODIFIED:20250923T215331Z
UID:10000162-1845041400-1845048600@capecodfamilyresourcecenter.org
SUMMARY:Thrive!
DESCRIPTION:A welcoming center for youth 22 and under\, offering peer-led\, adult-supported groups for LGBTQ+ youth. Enjoy drop-in hours\, meetings\, field trips\, special events\, and more—all in a safe\, inclusive space that celebrates individuality\, connection\, and community. \nCall (508) 778-7744 to register.
URL:https://capecodfamilyresourcecenter.org/event/thrive/2028-06-19/
LOCATION:We Thrive\, Cape Cod’s LGBTQ+ Youth Center\, 56 Barnstable Road\, Hyannis\, MA\, 02601\, United States
CATEGORIES:For Children & Teens
END:VEVENT
BEGIN:VEVENT
DTSTART;TZID=America/New_York:20280626T153000
DTEND;TZID=America/New_York:20280626T173000
DTSTAMP:20260425T125353
CREATED:20250531T134612Z
LAST-MODIFIED:20250923T215331Z
UID:10000163-1845646200-1845653400@capecodfamilyresourcecenter.org
SUMMARY:Thrive!
DESCRIPTION:A welcoming center for youth 22 and under\, offering peer-led\, adult-supported groups for LGBTQ+ youth. Enjoy drop-in hours\, meetings\, field trips\, special events\, and more—all in a safe\, inclusive space that celebrates individuality\, connection\, and community. \nCall (508) 778-7744 to register.
URL:https://capecodfamilyresourcecenter.org/event/thrive/2028-06-26/
LOCATION:We Thrive\, Cape Cod’s LGBTQ+ Youth Center\, 56 Barnstable Road\, Hyannis\, MA\, 02601\, United States
CATEGORIES:For Children & Teens
END:VEVENT
END:VCALENDAR