BEGIN:VCALENDAR
VERSION:2.0
PRODID:-//Cape Cod Family Resource Center - ECPv6.15.20//NONSGML v1.0//EN
CALSCALE:GREGORIAN
METHOD:PUBLISH
X-ORIGINAL-URL:https://capecodfamilyresourcecenter.org
X-WR-CALDESC:Events for Cape Cod Family Resource Center
REFRESH-INTERVAL;VALUE=DURATION:PT1H
X-Robots-Tag:noindex
X-PUBLISHED-TTL:PT1H
BEGIN:VTIMEZONE
TZID:America/New_York
BEGIN:DAYLIGHT
TZOFFSETFROM:-0500
TZOFFSETTO:-0400
TZNAME:EDT
DTSTART:20240310T070000
END:DAYLIGHT
BEGIN:STANDARD
TZOFFSETFROM:-0400
TZOFFSETTO:-0500
TZNAME:EST
DTSTART:20241103T060000
END:STANDARD
BEGIN:DAYLIGHT
TZOFFSETFROM:-0500
TZOFFSETTO:-0400
TZNAME:EDT
DTSTART:20250309T070000
END:DAYLIGHT
BEGIN:STANDARD
TZOFFSETFROM:-0400
TZOFFSETTO:-0500
TZNAME:EST
DTSTART:20251102T060000
END:STANDARD
BEGIN:DAYLIGHT
TZOFFSETFROM:-0500
TZOFFSETTO:-0400
TZNAME:EDT
DTSTART:20260308T070000
END:DAYLIGHT
BEGIN:STANDARD
TZOFFSETFROM:-0400
TZOFFSETTO:-0500
TZNAME:EST
DTSTART:20261101T060000
END:STANDARD
END:VTIMEZONE
BEGIN:VEVENT
DTSTART;TZID=America/New_York:20250728T153000
DTEND;TZID=America/New_York:20250728T173000
DTSTAMP:20260420T105803
CREATED:20250531T134612Z
LAST-MODIFIED:20250923T215331Z
UID:10000011-1753716600-1753723800@capecodfamilyresourcecenter.org
SUMMARY:Thrive!
DESCRIPTION:A welcoming center for youth 22 and under\, offering peer-led\, adult-supported groups for LGBTQ+ youth. Enjoy drop-in hours\, meetings\, field trips\, special events\, and more—all in a safe\, inclusive space that celebrates individuality\, connection\, and community. \nCall (508) 778-7744 to register.
URL:https://capecodfamilyresourcecenter.org/event/thrive/2025-07-28/
LOCATION:We Thrive\, Cape Cod’s LGBTQ+ Youth Center\, 56 Barnstable Road\, Hyannis\, MA\, 02601\, United States
CATEGORIES:For Children & Teens
END:VEVENT
BEGIN:VEVENT
DTSTART;TZID=America/New_York:20250721T153000
DTEND;TZID=America/New_York:20250721T173000
DTSTAMP:20260420T105803
CREATED:20250531T134612Z
LAST-MODIFIED:20250923T215331Z
UID:10000010-1753111800-1753119000@capecodfamilyresourcecenter.org
SUMMARY:Thrive!
DESCRIPTION:A welcoming center for youth 22 and under\, offering peer-led\, adult-supported groups for LGBTQ+ youth. Enjoy drop-in hours\, meetings\, field trips\, special events\, and more—all in a safe\, inclusive space that celebrates individuality\, connection\, and community. \nCall (508) 778-7744 to register.
URL:https://capecodfamilyresourcecenter.org/event/thrive/2025-07-21/
LOCATION:We Thrive\, Cape Cod’s LGBTQ+ Youth Center\, 56 Barnstable Road\, Hyannis\, MA\, 02601\, United States
CATEGORIES:For Children & Teens
END:VEVENT
BEGIN:VEVENT
DTSTART;TZID=America/New_York:20250714T153000
DTEND;TZID=America/New_York:20250714T173000
DTSTAMP:20260420T105803
CREATED:20250531T134612Z
LAST-MODIFIED:20250923T215331Z
UID:10000009-1752507000-1752514200@capecodfamilyresourcecenter.org
SUMMARY:Thrive!
DESCRIPTION:A welcoming center for youth 22 and under\, offering peer-led\, adult-supported groups for LGBTQ+ youth. Enjoy drop-in hours\, meetings\, field trips\, special events\, and more—all in a safe\, inclusive space that celebrates individuality\, connection\, and community. \nCall (508) 778-7744 to register.
URL:https://capecodfamilyresourcecenter.org/event/thrive/2025-07-14/
LOCATION:We Thrive\, Cape Cod’s LGBTQ+ Youth Center\, 56 Barnstable Road\, Hyannis\, MA\, 02601\, United States
CATEGORIES:For Children & Teens
END:VEVENT
BEGIN:VEVENT
DTSTART;TZID=America/New_York:20250707T153000
DTEND;TZID=America/New_York:20250707T173000
DTSTAMP:20260420T105803
CREATED:20250531T134612Z
LAST-MODIFIED:20250923T215331Z
UID:10000008-1751902200-1751909400@capecodfamilyresourcecenter.org
SUMMARY:Thrive!
DESCRIPTION:A welcoming center for youth 22 and under\, offering peer-led\, adult-supported groups for LGBTQ+ youth. Enjoy drop-in hours\, meetings\, field trips\, special events\, and more—all in a safe\, inclusive space that celebrates individuality\, connection\, and community. \nCall (508) 778-7744 to register.
URL:https://capecodfamilyresourcecenter.org/event/thrive/2025-07-07/
LOCATION:We Thrive\, Cape Cod’s LGBTQ+ Youth Center\, 56 Barnstable Road\, Hyannis\, MA\, 02601\, United States
CATEGORIES:For Children & Teens
END:VEVENT
BEGIN:VEVENT
DTSTART;TZID=America/New_York:20250630T153000
DTEND;TZID=America/New_York:20250630T173000
DTSTAMP:20260420T105803
CREATED:20250531T134612Z
LAST-MODIFIED:20250923T215331Z
UID:10000007-1751297400-1751304600@capecodfamilyresourcecenter.org
SUMMARY:Thrive!
DESCRIPTION:A welcoming center for youth 22 and under\, offering peer-led\, adult-supported groups for LGBTQ+ youth. Enjoy drop-in hours\, meetings\, field trips\, special events\, and more—all in a safe\, inclusive space that celebrates individuality\, connection\, and community. \nCall (508) 778-7744 to register.
URL:https://capecodfamilyresourcecenter.org/event/thrive/2025-06-30/
LOCATION:We Thrive\, Cape Cod’s LGBTQ+ Youth Center\, 56 Barnstable Road\, Hyannis\, MA\, 02601\, United States
CATEGORIES:For Children & Teens
END:VEVENT
BEGIN:VEVENT
DTSTART;TZID=America/New_York:20250623T153000
DTEND;TZID=America/New_York:20250623T173000
DTSTAMP:20260420T105803
CREATED:20250531T134612Z
LAST-MODIFIED:20250923T215331Z
UID:10000006-1750692600-1750699800@capecodfamilyresourcecenter.org
SUMMARY:Thrive!
DESCRIPTION:A welcoming center for youth 22 and under\, offering peer-led\, adult-supported groups for LGBTQ+ youth. Enjoy drop-in hours\, meetings\, field trips\, special events\, and more—all in a safe\, inclusive space that celebrates individuality\, connection\, and community. \nCall (508) 778-7744 to register.
URL:https://capecodfamilyresourcecenter.org/event/thrive/2025-06-23/
LOCATION:We Thrive\, Cape Cod’s LGBTQ+ Youth Center\, 56 Barnstable Road\, Hyannis\, MA\, 02601\, United States
CATEGORIES:For Children & Teens
END:VEVENT
BEGIN:VEVENT
DTSTART;TZID=America/New_York:20250616T153000
DTEND;TZID=America/New_York:20250616T173000
DTSTAMP:20260420T105803
CREATED:20250531T134612Z
LAST-MODIFIED:20250923T215331Z
UID:10000005-1750087800-1750095000@capecodfamilyresourcecenter.org
SUMMARY:Thrive!
DESCRIPTION:A welcoming center for youth 22 and under\, offering peer-led\, adult-supported groups for LGBTQ+ youth. Enjoy drop-in hours\, meetings\, field trips\, special events\, and more—all in a safe\, inclusive space that celebrates individuality\, connection\, and community. \nCall (508) 778-7744 to register.
URL:https://capecodfamilyresourcecenter.org/event/thrive/2025-06-16/
LOCATION:We Thrive\, Cape Cod’s LGBTQ+ Youth Center\, 56 Barnstable Road\, Hyannis\, MA\, 02601\, United States
CATEGORIES:For Children & Teens
END:VEVENT
BEGIN:VEVENT
DTSTART;TZID=America/New_York:20250609T153000
DTEND;TZID=America/New_York:20250609T173000
DTSTAMP:20260420T105803
CREATED:20250531T134612Z
LAST-MODIFIED:20250923T215331Z
UID:10000004-1749483000-1749490200@capecodfamilyresourcecenter.org
SUMMARY:Thrive!
DESCRIPTION:A welcoming center for youth 22 and under\, offering peer-led\, adult-supported groups for LGBTQ+ youth. Enjoy drop-in hours\, meetings\, field trips\, special events\, and more—all in a safe\, inclusive space that celebrates individuality\, connection\, and community. \nCall (508) 778-7744 to register.
URL:https://capecodfamilyresourcecenter.org/event/thrive/2025-06-09/
LOCATION:We Thrive\, Cape Cod’s LGBTQ+ Youth Center\, 56 Barnstable Road\, Hyannis\, MA\, 02601\, United States
CATEGORIES:For Children & Teens
END:VEVENT
BEGIN:VEVENT
DTSTART;TZID=America/New_York:20250602T153000
DTEND;TZID=America/New_York:20250602T173000
DTSTAMP:20260420T105803
CREATED:20250531T134612Z
LAST-MODIFIED:20250923T215331Z
UID:10000002-1748878200-1748885400@capecodfamilyresourcecenter.org
SUMMARY:Thrive!
DESCRIPTION:A welcoming center for youth 22 and under\, offering peer-led\, adult-supported groups for LGBTQ+ youth. Enjoy drop-in hours\, meetings\, field trips\, special events\, and more—all in a safe\, inclusive space that celebrates individuality\, connection\, and community. \nCall (508) 778-7744 to register.
URL:https://capecodfamilyresourcecenter.org/event/thrive/2025-06-02/
LOCATION:We Thrive\, Cape Cod’s LGBTQ+ Youth Center\, 56 Barnstable Road\, Hyannis\, MA\, 02601\, United States
CATEGORIES:For Children & Teens
END:VEVENT
END:VCALENDAR