BEGIN:VCALENDAR
VERSION:2.0
PRODID:-//Cape Cod Family Resource Center - ECPv6.15.20//NONSGML v1.0//EN
CALSCALE:GREGORIAN
METHOD:PUBLISH
X-WR-CALNAME:Cape Cod Family Resource Center
X-ORIGINAL-URL:https://capecodfamilyresourcecenter.org
X-WR-CALDESC:Events for Cape Cod Family Resource Center
REFRESH-INTERVAL;VALUE=DURATION:PT1H
X-Robots-Tag:noindex
X-PUBLISHED-TTL:PT1H
BEGIN:VTIMEZONE
TZID:America/New_York
BEGIN:DAYLIGHT
TZOFFSETFROM:-0500
TZOFFSETTO:-0400
TZNAME:EDT
DTSTART:20240310T070000
END:DAYLIGHT
BEGIN:STANDARD
TZOFFSETFROM:-0400
TZOFFSETTO:-0500
TZNAME:EST
DTSTART:20241103T060000
END:STANDARD
BEGIN:DAYLIGHT
TZOFFSETFROM:-0500
TZOFFSETTO:-0400
TZNAME:EDT
DTSTART:20250309T070000
END:DAYLIGHT
BEGIN:STANDARD
TZOFFSETFROM:-0400
TZOFFSETTO:-0500
TZNAME:EST
DTSTART:20251102T060000
END:STANDARD
BEGIN:DAYLIGHT
TZOFFSETFROM:-0500
TZOFFSETTO:-0400
TZNAME:EDT
DTSTART:20260308T070000
END:DAYLIGHT
BEGIN:STANDARD
TZOFFSETFROM:-0400
TZOFFSETTO:-0500
TZNAME:EST
DTSTART:20261101T060000
END:STANDARD
END:VTIMEZONE
BEGIN:VEVENT
DTSTART;TZID=America/New_York:20251004T120000
DTEND;TZID=America/New_York:20251004T150000
DTSTAMP:20260422T125346
CREATED:20250926T185625Z
LAST-MODIFIED:20250926T185625Z
UID:10003630-1759579200-1759590000@capecodfamilyresourcecenter.org
SUMMARY:Winter Coat Drive @Macy's
DESCRIPTION:Please stop by Macy’s (inside the entrance by Ten Pin) from 12-6 pm to make a winter coat donation. \nHelp a kid stay warm this winter!
URL:https://capecodfamilyresourcecenter.org/event/winter-coat-drive-macys/2025-10-04/
LOCATION:Macy’s\, 793 Iyannough Rd Ste E\, Hyannis\, MA\, 02601\, United States
CATEGORIES:For Children & Teens,For Parents & Caregivers
END:VEVENT
BEGIN:VEVENT
DTSTART;TZID=America/New_York:20250928T120000
DTEND;TZID=America/New_York:20250928T150000
DTSTAMP:20260422T125346
CREATED:20250926T185625Z
LAST-MODIFIED:20250926T185625Z
UID:10003629-1759060800-1759071600@capecodfamilyresourcecenter.org
SUMMARY:Winter Coat Drive @Macy's
DESCRIPTION:Please stop by Macy’s (inside the entrance by Ten Pin) from 12-6 pm to make a winter coat donation. \nHelp a kid stay warm this winter!
URL:https://capecodfamilyresourcecenter.org/event/winter-coat-drive-macys/2025-09-28/
LOCATION:Macy’s\, 793 Iyannough Rd Ste E\, Hyannis\, MA\, 02601\, United States
CATEGORIES:For Children & Teens,For Parents & Caregivers
END:VEVENT
END:VCALENDAR