BEGIN:VCALENDAR
VERSION:2.0
PRODID:-//Cape Cod Family Resource Center - ECPv6.15.20//NONSGML v1.0//EN
CALSCALE:GREGORIAN
METHOD:PUBLISH
X-ORIGINAL-URL:https://capecodfamilyresourcecenter.org
X-WR-CALDESC:Events for Cape Cod Family Resource Center
REFRESH-INTERVAL;VALUE=DURATION:PT1H
X-Robots-Tag:noindex
X-PUBLISHED-TTL:PT1H
BEGIN:VTIMEZONE
TZID:America/New_York
BEGIN:DAYLIGHT
TZOFFSETFROM:-0500
TZOFFSETTO:-0400
TZNAME:EDT
DTSTART:20240310T070000
END:DAYLIGHT
BEGIN:STANDARD
TZOFFSETFROM:-0400
TZOFFSETTO:-0500
TZNAME:EST
DTSTART:20241103T060000
END:STANDARD
BEGIN:DAYLIGHT
TZOFFSETFROM:-0500
TZOFFSETTO:-0400
TZNAME:EDT
DTSTART:20250309T070000
END:DAYLIGHT
BEGIN:STANDARD
TZOFFSETFROM:-0400
TZOFFSETTO:-0500
TZNAME:EST
DTSTART:20251102T060000
END:STANDARD
BEGIN:DAYLIGHT
TZOFFSETFROM:-0500
TZOFFSETTO:-0400
TZNAME:EDT
DTSTART:20260308T070000
END:DAYLIGHT
BEGIN:STANDARD
TZOFFSETFROM:-0400
TZOFFSETTO:-0500
TZNAME:EST
DTSTART:20261101T060000
END:STANDARD
BEGIN:DAYLIGHT
TZOFFSETFROM:-0500
TZOFFSETTO:-0400
TZNAME:EDT
DTSTART:20270314T070000
END:DAYLIGHT
BEGIN:STANDARD
TZOFFSETFROM:-0400
TZOFFSETTO:-0500
TZNAME:EST
DTSTART:20271107T060000
END:STANDARD
END:VTIMEZONE
BEGIN:VEVENT
DTSTART;TZID=America/New_York:20260324T100000
DTEND;TZID=America/New_York:20260324T130000
DTSTAMP:20260423T063657
CREATED:20250829T175133Z
LAST-MODIFIED:20250905T174528Z
UID:10003213-1774346400-1774357200@capecodfamilyresourcecenter.org
SUMMARY:FRC Pop-Up at CCCP in Eastham
DESCRIPTION:Our FRC is Rolling Your Way!\nStarting September 23rd\, we’re hitting the road every 4th Tuesday of the month to bring essential resources straight to you!\nLocation: Cape Cod Children’s Place\n10 AM – 1 PM\nSwing by our pop-up event for:\nBasic Needs\nDiaper Depot\nSchool Support\nCommunity Resources\n…and so much more!\nCome connect\, stock up\, and get the support you need—right in your neighborhood! \n 
URL:https://capecodfamilyresourcecenter.org/event/frc-pop-up-at-cccp-in-eastham/2026-03-24/
LOCATION:Cape Cod Children’s Place\, 10 Ballwic Road\, Eastham\, MA\, 02642\, United States
CATEGORIES:For Parents & Caregivers
END:VEVENT
BEGIN:VEVENT
DTSTART;TZID=America/New_York:20260224T100000
DTEND;TZID=America/New_York:20260224T130000
DTSTAMP:20260423T063657
CREATED:20250829T175133Z
LAST-MODIFIED:20250905T174528Z
UID:10003212-1771927200-1771938000@capecodfamilyresourcecenter.org
SUMMARY:FRC Pop-Up at CCCP in Eastham
DESCRIPTION:Our FRC is Rolling Your Way!\nStarting September 23rd\, we’re hitting the road every 4th Tuesday of the month to bring essential resources straight to you!\nLocation: Cape Cod Children’s Place\n10 AM – 1 PM\nSwing by our pop-up event for:\nBasic Needs\nDiaper Depot\nSchool Support\nCommunity Resources\n…and so much more!\nCome connect\, stock up\, and get the support you need—right in your neighborhood! \n 
URL:https://capecodfamilyresourcecenter.org/event/frc-pop-up-at-cccp-in-eastham/2026-02-24/
LOCATION:Cape Cod Children’s Place\, 10 Ballwic Road\, Eastham\, MA\, 02642\, United States
CATEGORIES:For Parents & Caregivers
END:VEVENT
BEGIN:VEVENT
DTSTART;TZID=America/New_York:20260127T100000
DTEND;TZID=America/New_York:20260127T130000
DTSTAMP:20260423T063657
CREATED:20250829T175133Z
LAST-MODIFIED:20250905T174528Z
UID:10003211-1769508000-1769518800@capecodfamilyresourcecenter.org
SUMMARY:FRC Pop-Up at CCCP in Eastham
DESCRIPTION:Our FRC is Rolling Your Way!\nStarting September 23rd\, we’re hitting the road every 4th Tuesday of the month to bring essential resources straight to you!\nLocation: Cape Cod Children’s Place\n10 AM – 1 PM\nSwing by our pop-up event for:\nBasic Needs\nDiaper Depot\nSchool Support\nCommunity Resources\n…and so much more!\nCome connect\, stock up\, and get the support you need—right in your neighborhood! \n 
URL:https://capecodfamilyresourcecenter.org/event/frc-pop-up-at-cccp-in-eastham/2026-01-27/
LOCATION:Cape Cod Children’s Place\, 10 Ballwic Road\, Eastham\, MA\, 02642\, United States
CATEGORIES:For Parents & Caregivers
END:VEVENT
BEGIN:VEVENT
DTSTART;TZID=America/New_York:20251223T100000
DTEND;TZID=America/New_York:20251223T130000
DTSTAMP:20260423T063657
CREATED:20250829T175133Z
LAST-MODIFIED:20250905T174528Z
UID:10003210-1766484000-1766494800@capecodfamilyresourcecenter.org
SUMMARY:FRC Pop-Up at CCCP in Eastham
DESCRIPTION:Our FRC is Rolling Your Way!\nStarting September 23rd\, we’re hitting the road every 4th Tuesday of the month to bring essential resources straight to you!\nLocation: Cape Cod Children’s Place\n10 AM – 1 PM\nSwing by our pop-up event for:\nBasic Needs\nDiaper Depot\nSchool Support\nCommunity Resources\n…and so much more!\nCome connect\, stock up\, and get the support you need—right in your neighborhood! \n 
URL:https://capecodfamilyresourcecenter.org/event/frc-pop-up-at-cccp-in-eastham/2025-12-23/
LOCATION:Cape Cod Children’s Place\, 10 Ballwic Road\, Eastham\, MA\, 02642\, United States
CATEGORIES:For Parents & Caregivers
END:VEVENT
BEGIN:VEVENT
DTSTART;TZID=America/New_York:20251125T100000
DTEND;TZID=America/New_York:20251125T130000
DTSTAMP:20260423T063657
CREATED:20250829T175133Z
LAST-MODIFIED:20250905T174528Z
UID:10003209-1764064800-1764075600@capecodfamilyresourcecenter.org
SUMMARY:FRC Pop-Up at CCCP in Eastham
DESCRIPTION:Our FRC is Rolling Your Way!\nStarting September 23rd\, we’re hitting the road every 4th Tuesday of the month to bring essential resources straight to you!\nLocation: Cape Cod Children’s Place\n10 AM – 1 PM\nSwing by our pop-up event for:\nBasic Needs\nDiaper Depot\nSchool Support\nCommunity Resources\n…and so much more!\nCome connect\, stock up\, and get the support you need—right in your neighborhood! \n 
URL:https://capecodfamilyresourcecenter.org/event/frc-pop-up-at-cccp-in-eastham/2025-11-25/
LOCATION:Cape Cod Children’s Place\, 10 Ballwic Road\, Eastham\, MA\, 02642\, United States
CATEGORIES:For Parents & Caregivers
END:VEVENT
BEGIN:VEVENT
DTSTART;TZID=America/New_York:20251028T100000
DTEND;TZID=America/New_York:20251028T130000
DTSTAMP:20260423T063657
CREATED:20250926T171755Z
LAST-MODIFIED:20250926T171756Z
UID:10003208-1761645600-1761656400@capecodfamilyresourcecenter.org
SUMMARY:FRC Pop-Up at CCCP in Eastham
DESCRIPTION:Our FRC is Rolling Your Way!\nStarting September 23rd\, we’re hitting the road every 4th Tuesday of the month to bring essential resources straight to you!\nLocation: Cape Cod Children’s Place\n10 AM – 1 PM\nSwing by our pop-up event for:\nBasic Needs\nDiaper Depot\nSchool Support\nCommunity Resources\n…and so much more!\nCome connect\, stock up\, and get the support you need—right in your neighborhood! \n 
URL:https://capecodfamilyresourcecenter.org/event/frc-pop-up-at-cccp-in-eastham-2/
LOCATION:Cape Cod Children’s Place\, 10 Ballwic Road\, Eastham\, MA\, 02642\, United States
CATEGORIES:For Parents & Caregivers
END:VEVENT
BEGIN:VEVENT
DTSTART;TZID=America/New_York:20250923T100000
DTEND;TZID=America/New_York:20250923T130000
DTSTAMP:20260423T063657
CREATED:20250829T175133Z
LAST-MODIFIED:20250905T174528Z
UID:10003207-1758621600-1758632400@capecodfamilyresourcecenter.org
SUMMARY:FRC Pop-Up at CCCP in Eastham
DESCRIPTION:Our FRC is Rolling Your Way!\nStarting September 23rd\, we’re hitting the road every 4th Tuesday of the month to bring essential resources straight to you!\nLocation: Cape Cod Children’s Place\n10 AM – 1 PM\nSwing by our pop-up event for:\nBasic Needs\nDiaper Depot\nSchool Support\nCommunity Resources\n…and so much more!\nCome connect\, stock up\, and get the support you need—right in your neighborhood! \n 
URL:https://capecodfamilyresourcecenter.org/event/frc-pop-up-at-cccp-in-eastham/2025-09-23/
LOCATION:Cape Cod Children’s Place\, 10 Ballwic Road\, Eastham\, MA\, 02642\, United States
CATEGORIES:For Parents & Caregivers
END:VEVENT
END:VCALENDAR