BEGIN:VCALENDAR
VERSION:2.0
PRODID:-//Cape Cod Family Resource Center - ECPv6.15.20//NONSGML v1.0//EN
CALSCALE:GREGORIAN
METHOD:PUBLISH
X-WR-CALNAME:Cape Cod Family Resource Center
X-ORIGINAL-URL:https://capecodfamilyresourcecenter.org
X-WR-CALDESC:Events for Cape Cod Family Resource Center
REFRESH-INTERVAL;VALUE=DURATION:PT1H
X-Robots-Tag:noindex
X-PUBLISHED-TTL:PT1H
BEGIN:VTIMEZONE
TZID:America/New_York
BEGIN:DAYLIGHT
TZOFFSETFROM:-0500
TZOFFSETTO:-0400
TZNAME:EDT
DTSTART:20250309T070000
END:DAYLIGHT
BEGIN:STANDARD
TZOFFSETFROM:-0400
TZOFFSETTO:-0500
TZNAME:EST
DTSTART:20251102T060000
END:STANDARD
BEGIN:DAYLIGHT
TZOFFSETFROM:-0500
TZOFFSETTO:-0400
TZNAME:EDT
DTSTART:20260308T070000
END:DAYLIGHT
BEGIN:STANDARD
TZOFFSETFROM:-0400
TZOFFSETTO:-0500
TZNAME:EST
DTSTART:20261101T060000
END:STANDARD
BEGIN:DAYLIGHT
TZOFFSETFROM:-0500
TZOFFSETTO:-0400
TZNAME:EDT
DTSTART:20270314T070000
END:DAYLIGHT
BEGIN:STANDARD
TZOFFSETFROM:-0400
TZOFFSETTO:-0500
TZNAME:EST
DTSTART:20271107T060000
END:STANDARD
END:VTIMEZONE
BEGIN:VEVENT
DTSTART;TZID=America/New_York:20260424T090000
DTEND;TZID=America/New_York:20260424T160000
DTSTAMP:20260423T044954
CREATED:20251014T141034Z
LAST-MODIFIED:20251014T141034Z
UID:10004173-1777021200-1777046400@capecodfamilyresourcecenter.org
SUMMARY:Food Pantry and Diaper Depot
DESCRIPTION:Our Food Pantry and Diaper Depot have new operating hours! \nMonday: 8 AM – 6 PM \nWednesday: 8 AM – 5 PM \nFriday: 9 AM – 4 PM \nPlease plan your visit accordingly!
URL:https://capecodfamilyresourcecenter.org/event/food-pantry-and-diaper-depot-3/2026-04-24/
LOCATION:Cape Cod Family Resource Center\, 29 Bassett Lane\, Hyannis\, MA\, 02601\, United States
CATEGORIES:For Parents & Caregivers
END:VEVENT
BEGIN:VEVENT
DTSTART;TZID=America/New_York:20260424T100000
DTEND;TZID=America/New_York:20260424T110000
DTSTAMP:20260423T044954
CREATED:20250630T184813Z
LAST-MODIFIED:20250701T130110Z
UID:10001461-1777024800-1777028400@capecodfamilyresourcecenter.org
SUMMARY:Craft Hour
DESCRIPTION:Parent-Child Craft Hour is a fun and relaxed time for families to get creative together! Join us for simple\, hands-on projects that encourage connection\, conversation\, and creativity between parents and children. All supplies are provided—just bring your imagination and enjoy quality time making something special side by side. \nThis is an in-person\, drop in event with no registration needed!
URL:https://capecodfamilyresourcecenter.org/event/craft-hour/2026-04-24/
LOCATION:Cape Cod Family Resource Center\, 29 Bassett Lane\, Hyannis\, MA\, 02601\, United States
CATEGORIES:For Children & Teens
END:VEVENT
BEGIN:VEVENT
DTSTART;TZID=America/New_York:20260427T080000
DTEND;TZID=America/New_York:20260427T180000
DTSTAMP:20260423T044954
CREATED:20251014T140827Z
LAST-MODIFIED:20251014T140827Z
UID:10003657-1777276800-1777312800@capecodfamilyresourcecenter.org
SUMMARY:Food Pantry and Diaper Depot
DESCRIPTION:Our Food Pantry and Diaper Depot have new operating hours! \nMonday: 8 AM – 6 PM \nWednesday: 8 AM – 5 PM \nFriday: 9 AM – 4 PM \nPlease plan your visit accordingly!
URL:https://capecodfamilyresourcecenter.org/event/food-pantry-and-diaper-depot/2026-04-27/
LOCATION:Cape Cod Family Resource Center\, 29 Bassett Lane\, Hyannis\, MA\, 02601\, United States
CATEGORIES:For Parents & Caregivers
END:VEVENT
BEGIN:VEVENT
DTSTART;TZID=America/New_York:20260427T153000
DTEND;TZID=America/New_York:20260427T173000
DTSTAMP:20260423T044954
CREATED:20250531T134612Z
LAST-MODIFIED:20250923T215331Z
UID:10000050-1777303800-1777311000@capecodfamilyresourcecenter.org
SUMMARY:Thrive!
DESCRIPTION:A welcoming center for youth 22 and under\, offering peer-led\, adult-supported groups for LGBTQ+ youth. Enjoy drop-in hours\, meetings\, field trips\, special events\, and more—all in a safe\, inclusive space that celebrates individuality\, connection\, and community. \nCall (508) 778-7744 to register.
URL:https://capecodfamilyresourcecenter.org/event/thrive/2026-04-27/
LOCATION:We Thrive\, Cape Cod’s LGBTQ+ Youth Center\, 56 Barnstable Road\, Hyannis\, MA\, 02601\, United States
CATEGORIES:For Children & Teens
END:VEVENT
BEGIN:VEVENT
DTSTART;TZID=America/New_York:20260428T100000
DTEND;TZID=America/New_York:20260428T130000
DTSTAMP:20260423T044954
CREATED:20250829T175133Z
LAST-MODIFIED:20250905T174528Z
UID:10003214-1777370400-1777381200@capecodfamilyresourcecenter.org
SUMMARY:FRC Pop-Up at CCCP in Eastham
DESCRIPTION:Our FRC is Rolling Your Way!\nStarting September 23rd\, we’re hitting the road every 4th Tuesday of the month to bring essential resources straight to you!\nLocation: Cape Cod Children’s Place\n10 AM – 1 PM\nSwing by our pop-up event for:\nBasic Needs\nDiaper Depot\nSchool Support\nCommunity Resources\n…and so much more!\nCome connect\, stock up\, and get the support you need—right in your neighborhood! \n 
URL:https://capecodfamilyresourcecenter.org/event/frc-pop-up-at-cccp-in-eastham/2026-04-28/
LOCATION:Cape Cod Children’s Place\, 10 Ballwic Road\, Eastham\, MA\, 02642\, United States
CATEGORIES:For Parents & Caregivers
END:VEVENT
BEGIN:VEVENT
DTSTART;TZID=America/New_York:20260429T080000
DTEND;TZID=America/New_York:20260429T170000
DTSTAMP:20260423T044954
CREATED:20251014T140939Z
LAST-MODIFIED:20251014T140939Z
UID:10003916-1777449600-1777482000@capecodfamilyresourcecenter.org
SUMMARY:Food Pantry and Diaper Depot
DESCRIPTION:Our Food Pantry and Diaper Depot have new operating hours! \nMonday: 8 AM – 6 PM \nWednesday: 8 AM – 5 PM \nFriday: 9 AM – 4 PM \nPlease plan your visit accordingly!
URL:https://capecodfamilyresourcecenter.org/event/food-pantry-and-diaper-depot-2/2026-04-29/
LOCATION:Cape Cod Family Resource Center\, 29 Bassett Lane\, Hyannis\, MA\, 02601\, United States
CATEGORIES:For Parents & Caregivers
END:VEVENT
BEGIN:VEVENT
DTSTART;TZID=America/New_York:20260429T120000
DTEND;TZID=America/New_York:20260429T130000
DTSTAMP:20260423T044954
CREATED:20250630T184718Z
LAST-MODIFIED:20250630T184719Z
UID:10000952-1777464000-1777467600@capecodfamilyresourcecenter.org
SUMMARY:Alcoholics Anonymous
DESCRIPTION:
URL:https://capecodfamilyresourcecenter.org/event/alcoholics-anonymous-2/2026-04-29/
LOCATION:Cape Cod Family Resource Center\, 29 Bassett Lane\, Hyannis\, MA\, 02601\, United States
CATEGORIES:For Parents & Caregivers
END:VEVENT
END:VCALENDAR