BEGIN:VCALENDAR
VERSION:2.0
PRODID:-//Cape Cod Family Resource Center - ECPv6.15.20//NONSGML v1.0//EN
CALSCALE:GREGORIAN
METHOD:PUBLISH
X-WR-CALNAME:Cape Cod Family Resource Center
X-ORIGINAL-URL:https://capecodfamilyresourcecenter.org
X-WR-CALDESC:Events for Cape Cod Family Resource Center
REFRESH-INTERVAL;VALUE=DURATION:PT1H
X-Robots-Tag:noindex
X-PUBLISHED-TTL:PT1H
BEGIN:VTIMEZONE
TZID:America/New_York
BEGIN:DAYLIGHT
TZOFFSETFROM:-0500
TZOFFSETTO:-0400
TZNAME:EDT
DTSTART:20260308T070000
END:DAYLIGHT
BEGIN:STANDARD
TZOFFSETFROM:-0400
TZOFFSETTO:-0500
TZNAME:EST
DTSTART:20261101T060000
END:STANDARD
BEGIN:DAYLIGHT
TZOFFSETFROM:-0500
TZOFFSETTO:-0400
TZNAME:EDT
DTSTART:20270314T070000
END:DAYLIGHT
BEGIN:STANDARD
TZOFFSETFROM:-0400
TZOFFSETTO:-0500
TZNAME:EST
DTSTART:20271107T060000
END:STANDARD
BEGIN:DAYLIGHT
TZOFFSETFROM:-0500
TZOFFSETTO:-0400
TZNAME:EDT
DTSTART:20280312T070000
END:DAYLIGHT
BEGIN:STANDARD
TZOFFSETFROM:-0400
TZOFFSETTO:-0500
TZNAME:EST
DTSTART:20281105T060000
END:STANDARD
END:VTIMEZONE
BEGIN:VEVENT
DTSTART;TZID=America/New_York:20270316T170000
DTEND;TZID=America/New_York:20270316T190000
DTSTAMP:20260425T170124
CREATED:20250623T144852Z
LAST-MODIFIED:20250623T144947Z
UID:10000731-1805216400-1805223600@capecodfamilyresourcecenter.org
SUMMARY:Grandparents Raising Grandchildren
DESCRIPTION:This group offers a welcoming space for grandparents navigating the unique challenges of raising grandchildren. Come connect with others\, share experiences\, gain support\, and find strength in a community that understands. \nThis event is in-person with dinner and childcare provided. Call (508) 815-5100 to register.
URL:https://capecodfamilyresourcecenter.org/event/grandparents-raising-grandchildren/2027-03-16/
LOCATION:Cape Cod Family Resource Center\, 29 Bassett Lane\, Hyannis\, MA\, 02601\, United States
CATEGORIES:For Parents & Caregivers
END:VEVENT
BEGIN:VEVENT
DTSTART;TZID=America/New_York:20270317T080000
DTEND;TZID=America/New_York:20270317T170000
DTSTAMP:20260425T170124
CREATED:20251014T140939Z
LAST-MODIFIED:20251014T140939Z
UID:10003962-1805270400-1805302800@capecodfamilyresourcecenter.org
SUMMARY:Food Pantry and Diaper Depot
DESCRIPTION:Our Food Pantry and Diaper Depot have new operating hours! \nMonday: 8 AM – 6 PM \nWednesday: 8 AM – 5 PM \nFriday: 9 AM – 4 PM \nPlease plan your visit accordingly!
URL:https://capecodfamilyresourcecenter.org/event/food-pantry-and-diaper-depot-2/2027-03-17/
LOCATION:Cape Cod Family Resource Center\, 29 Bassett Lane\, Hyannis\, MA\, 02601\, United States
CATEGORIES:For Parents & Caregivers
END:VEVENT
BEGIN:VEVENT
DTSTART;TZID=America/New_York:20270317T120000
DTEND;TZID=America/New_York:20270317T130000
DTSTAMP:20260425T170124
CREATED:20250630T184718Z
LAST-MODIFIED:20250630T184719Z
UID:10000998-1805284800-1805288400@capecodfamilyresourcecenter.org
SUMMARY:Alcoholics Anonymous
DESCRIPTION:
URL:https://capecodfamilyresourcecenter.org/event/alcoholics-anonymous-2/2027-03-17/
LOCATION:Cape Cod Family Resource Center\, 29 Bassett Lane\, Hyannis\, MA\, 02601\, United States
CATEGORIES:For Parents & Caregivers
END:VEVENT
BEGIN:VEVENT
DTSTART;TZID=America/New_York:20270319T090000
DTEND;TZID=America/New_York:20270319T160000
DTSTAMP:20260425T170124
CREATED:20251014T141034Z
LAST-MODIFIED:20251014T141034Z
UID:10004220-1805446800-1805472000@capecodfamilyresourcecenter.org
SUMMARY:Food Pantry and Diaper Depot
DESCRIPTION:Our Food Pantry and Diaper Depot have new operating hours! \nMonday: 8 AM – 6 PM \nWednesday: 8 AM – 5 PM \nFriday: 9 AM – 4 PM \nPlease plan your visit accordingly!
URL:https://capecodfamilyresourcecenter.org/event/food-pantry-and-diaper-depot-3/2027-03-19/
LOCATION:Cape Cod Family Resource Center\, 29 Bassett Lane\, Hyannis\, MA\, 02601\, United States
CATEGORIES:For Parents & Caregivers
END:VEVENT
BEGIN:VEVENT
DTSTART;TZID=America/New_York:20270319T100000
DTEND;TZID=America/New_York:20270319T110000
DTSTAMP:20260425T170124
CREATED:20250630T184813Z
LAST-MODIFIED:20250701T130110Z
UID:10001508-1805450400-1805454000@capecodfamilyresourcecenter.org
SUMMARY:Craft Hour
DESCRIPTION:Parent-Child Craft Hour is a fun and relaxed time for families to get creative together! Join us for simple\, hands-on projects that encourage connection\, conversation\, and creativity between parents and children. All supplies are provided—just bring your imagination and enjoy quality time making something special side by side. \nThis is an in-person\, drop in event with no registration needed!
URL:https://capecodfamilyresourcecenter.org/event/craft-hour/2027-03-19/
LOCATION:Cape Cod Family Resource Center\, 29 Bassett Lane\, Hyannis\, MA\, 02601\, United States
CATEGORIES:For Children & Teens
END:VEVENT
BEGIN:VEVENT
DTSTART;TZID=America/New_York:20270322T080000
DTEND;TZID=America/New_York:20270322T180000
DTSTAMP:20260425T170124
CREATED:20251014T140827Z
LAST-MODIFIED:20251014T140827Z
UID:10003704-1805702400-1805738400@capecodfamilyresourcecenter.org
SUMMARY:Food Pantry and Diaper Depot
DESCRIPTION:Our Food Pantry and Diaper Depot have new operating hours! \nMonday: 8 AM – 6 PM \nWednesday: 8 AM – 5 PM \nFriday: 9 AM – 4 PM \nPlease plan your visit accordingly!
URL:https://capecodfamilyresourcecenter.org/event/food-pantry-and-diaper-depot/2027-03-22/
LOCATION:Cape Cod Family Resource Center\, 29 Bassett Lane\, Hyannis\, MA\, 02601\, United States
CATEGORIES:For Parents & Caregivers
END:VEVENT
BEGIN:VEVENT
DTSTART;TZID=America/New_York:20270322T153000
DTEND;TZID=America/New_York:20270322T173000
DTSTAMP:20260425T170124
CREATED:20250531T134612Z
LAST-MODIFIED:20250923T215331Z
UID:10000097-1805729400-1805736600@capecodfamilyresourcecenter.org
SUMMARY:Thrive!
DESCRIPTION:A welcoming center for youth 22 and under\, offering peer-led\, adult-supported groups for LGBTQ+ youth. Enjoy drop-in hours\, meetings\, field trips\, special events\, and more—all in a safe\, inclusive space that celebrates individuality\, connection\, and community. \nCall (508) 778-7744 to register.
URL:https://capecodfamilyresourcecenter.org/event/thrive/2027-03-22/
LOCATION:We Thrive\, Cape Cod’s LGBTQ+ Youth Center\, 56 Barnstable Road\, Hyannis\, MA\, 02601\, United States
CATEGORIES:For Children & Teens
END:VEVENT
BEGIN:VEVENT
DTSTART;TZID=America/New_York:20270323T100000
DTEND;TZID=America/New_York:20270323T130000
DTSTAMP:20260425T170124
CREATED:20250829T175133Z
LAST-MODIFIED:20250905T174528Z
UID:10003225-1805796000-1805806800@capecodfamilyresourcecenter.org
SUMMARY:FRC Pop-Up at CCCP in Eastham
DESCRIPTION:Our FRC is Rolling Your Way!\nStarting September 23rd\, we’re hitting the road every 4th Tuesday of the month to bring essential resources straight to you!\nLocation: Cape Cod Children’s Place\n10 AM – 1 PM\nSwing by our pop-up event for:\nBasic Needs\nDiaper Depot\nSchool Support\nCommunity Resources\n…and so much more!\nCome connect\, stock up\, and get the support you need—right in your neighborhood! \n 
URL:https://capecodfamilyresourcecenter.org/event/frc-pop-up-at-cccp-in-eastham/2027-03-23/
LOCATION:Cape Cod Children’s Place\, 10 Ballwic Road\, Eastham\, MA\, 02642\, United States
CATEGORIES:For Parents & Caregivers
END:VEVENT
BEGIN:VEVENT
DTSTART;TZID=America/New_York:20270324T080000
DTEND;TZID=America/New_York:20270324T170000
DTSTAMP:20260425T170124
CREATED:20251014T140939Z
LAST-MODIFIED:20251014T140939Z
UID:10003963-1805875200-1805907600@capecodfamilyresourcecenter.org
SUMMARY:Food Pantry and Diaper Depot
DESCRIPTION:Our Food Pantry and Diaper Depot have new operating hours! \nMonday: 8 AM – 6 PM \nWednesday: 8 AM – 5 PM \nFriday: 9 AM – 4 PM \nPlease plan your visit accordingly!
URL:https://capecodfamilyresourcecenter.org/event/food-pantry-and-diaper-depot-2/2027-03-24/
LOCATION:Cape Cod Family Resource Center\, 29 Bassett Lane\, Hyannis\, MA\, 02601\, United States
CATEGORIES:For Parents & Caregivers
END:VEVENT
BEGIN:VEVENT
DTSTART;TZID=America/New_York:20270324T120000
DTEND;TZID=America/New_York:20270324T130000
DTSTAMP:20260425T170124
CREATED:20250630T184718Z
LAST-MODIFIED:20250630T184719Z
UID:10000999-1805889600-1805893200@capecodfamilyresourcecenter.org
SUMMARY:Alcoholics Anonymous
DESCRIPTION:
URL:https://capecodfamilyresourcecenter.org/event/alcoholics-anonymous-2/2027-03-24/
LOCATION:Cape Cod Family Resource Center\, 29 Bassett Lane\, Hyannis\, MA\, 02601\, United States
CATEGORIES:For Parents & Caregivers
END:VEVENT
BEGIN:VEVENT
DTSTART;TZID=America/New_York:20270326T090000
DTEND;TZID=America/New_York:20270326T160000
DTSTAMP:20260425T170124
CREATED:20251014T141034Z
LAST-MODIFIED:20251014T141034Z
UID:10004221-1806051600-1806076800@capecodfamilyresourcecenter.org
SUMMARY:Food Pantry and Diaper Depot
DESCRIPTION:Our Food Pantry and Diaper Depot have new operating hours! \nMonday: 8 AM – 6 PM \nWednesday: 8 AM – 5 PM \nFriday: 9 AM – 4 PM \nPlease plan your visit accordingly!
URL:https://capecodfamilyresourcecenter.org/event/food-pantry-and-diaper-depot-3/2027-03-26/
LOCATION:Cape Cod Family Resource Center\, 29 Bassett Lane\, Hyannis\, MA\, 02601\, United States
CATEGORIES:For Parents & Caregivers
END:VEVENT
BEGIN:VEVENT
DTSTART;TZID=America/New_York:20270326T100000
DTEND;TZID=America/New_York:20270326T110000
DTSTAMP:20260425T170124
CREATED:20250630T184813Z
LAST-MODIFIED:20250701T130110Z
UID:10001509-1806055200-1806058800@capecodfamilyresourcecenter.org
SUMMARY:Craft Hour
DESCRIPTION:Parent-Child Craft Hour is a fun and relaxed time for families to get creative together! Join us for simple\, hands-on projects that encourage connection\, conversation\, and creativity between parents and children. All supplies are provided—just bring your imagination and enjoy quality time making something special side by side. \nThis is an in-person\, drop in event with no registration needed!
URL:https://capecodfamilyresourcecenter.org/event/craft-hour/2027-03-26/
LOCATION:Cape Cod Family Resource Center\, 29 Bassett Lane\, Hyannis\, MA\, 02601\, United States
CATEGORIES:For Children & Teens
END:VEVENT
BEGIN:VEVENT
DTSTART;TZID=America/New_York:20270329T080000
DTEND;TZID=America/New_York:20270329T180000
DTSTAMP:20260425T170124
CREATED:20251014T140827Z
LAST-MODIFIED:20251014T140827Z
UID:10003705-1806307200-1806343200@capecodfamilyresourcecenter.org
SUMMARY:Food Pantry and Diaper Depot
DESCRIPTION:Our Food Pantry and Diaper Depot have new operating hours! \nMonday: 8 AM – 6 PM \nWednesday: 8 AM – 5 PM \nFriday: 9 AM – 4 PM \nPlease plan your visit accordingly!
URL:https://capecodfamilyresourcecenter.org/event/food-pantry-and-diaper-depot/2027-03-29/
LOCATION:Cape Cod Family Resource Center\, 29 Bassett Lane\, Hyannis\, MA\, 02601\, United States
CATEGORIES:For Parents & Caregivers
END:VEVENT
BEGIN:VEVENT
DTSTART;TZID=America/New_York:20270329T153000
DTEND;TZID=America/New_York:20270329T173000
DTSTAMP:20260425T170124
CREATED:20250531T134612Z
LAST-MODIFIED:20250923T215331Z
UID:10000098-1806334200-1806341400@capecodfamilyresourcecenter.org
SUMMARY:Thrive!
DESCRIPTION:A welcoming center for youth 22 and under\, offering peer-led\, adult-supported groups for LGBTQ+ youth. Enjoy drop-in hours\, meetings\, field trips\, special events\, and more—all in a safe\, inclusive space that celebrates individuality\, connection\, and community. \nCall (508) 778-7744 to register.
URL:https://capecodfamilyresourcecenter.org/event/thrive/2027-03-29/
LOCATION:We Thrive\, Cape Cod’s LGBTQ+ Youth Center\, 56 Barnstable Road\, Hyannis\, MA\, 02601\, United States
CATEGORIES:For Children & Teens
END:VEVENT
BEGIN:VEVENT
DTSTART;TZID=America/New_York:20270331T080000
DTEND;TZID=America/New_York:20270331T170000
DTSTAMP:20260425T170124
CREATED:20251014T140939Z
LAST-MODIFIED:20251014T140939Z
UID:10003964-1806480000-1806512400@capecodfamilyresourcecenter.org
SUMMARY:Food Pantry and Diaper Depot
DESCRIPTION:Our Food Pantry and Diaper Depot have new operating hours! \nMonday: 8 AM – 6 PM \nWednesday: 8 AM – 5 PM \nFriday: 9 AM – 4 PM \nPlease plan your visit accordingly!
URL:https://capecodfamilyresourcecenter.org/event/food-pantry-and-diaper-depot-2/2027-03-31/
LOCATION:Cape Cod Family Resource Center\, 29 Bassett Lane\, Hyannis\, MA\, 02601\, United States
CATEGORIES:For Parents & Caregivers
END:VEVENT
BEGIN:VEVENT
DTSTART;TZID=America/New_York:20270331T120000
DTEND;TZID=America/New_York:20270331T130000
DTSTAMP:20260425T170124
CREATED:20250630T184718Z
LAST-MODIFIED:20250630T184719Z
UID:10001000-1806494400-1806498000@capecodfamilyresourcecenter.org
SUMMARY:Alcoholics Anonymous
DESCRIPTION:
URL:https://capecodfamilyresourcecenter.org/event/alcoholics-anonymous-2/2027-03-31/
LOCATION:Cape Cod Family Resource Center\, 29 Bassett Lane\, Hyannis\, MA\, 02601\, United States
CATEGORIES:For Parents & Caregivers
END:VEVENT
BEGIN:VEVENT
DTSTART;TZID=America/New_York:20270402T090000
DTEND;TZID=America/New_York:20270402T160000
DTSTAMP:20260425T170124
CREATED:20251014T141034Z
LAST-MODIFIED:20251014T141034Z
UID:10004222-1806656400-1806681600@capecodfamilyresourcecenter.org
SUMMARY:Food Pantry and Diaper Depot
DESCRIPTION:Our Food Pantry and Diaper Depot have new operating hours! \nMonday: 8 AM – 6 PM \nWednesday: 8 AM – 5 PM \nFriday: 9 AM – 4 PM \nPlease plan your visit accordingly!
URL:https://capecodfamilyresourcecenter.org/event/food-pantry-and-diaper-depot-3/2027-04-02/
LOCATION:Cape Cod Family Resource Center\, 29 Bassett Lane\, Hyannis\, MA\, 02601\, United States
CATEGORIES:For Parents & Caregivers
END:VEVENT
BEGIN:VEVENT
DTSTART;TZID=America/New_York:20270402T100000
DTEND;TZID=America/New_York:20270402T110000
DTSTAMP:20260425T170124
CREATED:20250630T184813Z
LAST-MODIFIED:20250701T130110Z
UID:10001510-1806660000-1806663600@capecodfamilyresourcecenter.org
SUMMARY:Craft Hour
DESCRIPTION:Parent-Child Craft Hour is a fun and relaxed time for families to get creative together! Join us for simple\, hands-on projects that encourage connection\, conversation\, and creativity between parents and children. All supplies are provided—just bring your imagination and enjoy quality time making something special side by side. \nThis is an in-person\, drop in event with no registration needed!
URL:https://capecodfamilyresourcecenter.org/event/craft-hour/2027-04-02/
LOCATION:Cape Cod Family Resource Center\, 29 Bassett Lane\, Hyannis\, MA\, 02601\, United States
CATEGORIES:For Children & Teens
END:VEVENT
BEGIN:VEVENT
DTSTART;TZID=America/New_York:20270405T080000
DTEND;TZID=America/New_York:20270405T180000
DTSTAMP:20260425T170124
CREATED:20251014T140827Z
LAST-MODIFIED:20251014T140827Z
UID:10003706-1806912000-1806948000@capecodfamilyresourcecenter.org
SUMMARY:Food Pantry and Diaper Depot
DESCRIPTION:Our Food Pantry and Diaper Depot have new operating hours! \nMonday: 8 AM – 6 PM \nWednesday: 8 AM – 5 PM \nFriday: 9 AM – 4 PM \nPlease plan your visit accordingly!
URL:https://capecodfamilyresourcecenter.org/event/food-pantry-and-diaper-depot/2027-04-05/
LOCATION:Cape Cod Family Resource Center\, 29 Bassett Lane\, Hyannis\, MA\, 02601\, United States
CATEGORIES:For Parents & Caregivers
END:VEVENT
BEGIN:VEVENT
DTSTART;TZID=America/New_York:20270405T153000
DTEND;TZID=America/New_York:20270405T173000
DTSTAMP:20260425T170124
CREATED:20250531T134612Z
LAST-MODIFIED:20250923T215331Z
UID:10000099-1806939000-1806946200@capecodfamilyresourcecenter.org
SUMMARY:Thrive!
DESCRIPTION:A welcoming center for youth 22 and under\, offering peer-led\, adult-supported groups for LGBTQ+ youth. Enjoy drop-in hours\, meetings\, field trips\, special events\, and more—all in a safe\, inclusive space that celebrates individuality\, connection\, and community. \nCall (508) 778-7744 to register.
URL:https://capecodfamilyresourcecenter.org/event/thrive/2027-04-05/
LOCATION:We Thrive\, Cape Cod’s LGBTQ+ Youth Center\, 56 Barnstable Road\, Hyannis\, MA\, 02601\, United States
CATEGORIES:For Children & Teens
END:VEVENT
BEGIN:VEVENT
DTSTART;TZID=America/New_York:20270407T080000
DTEND;TZID=America/New_York:20270407T170000
DTSTAMP:20260425T170124
CREATED:20251014T140939Z
LAST-MODIFIED:20251014T140939Z
UID:10003965-1807084800-1807117200@capecodfamilyresourcecenter.org
SUMMARY:Food Pantry and Diaper Depot
DESCRIPTION:Our Food Pantry and Diaper Depot have new operating hours! \nMonday: 8 AM – 6 PM \nWednesday: 8 AM – 5 PM \nFriday: 9 AM – 4 PM \nPlease plan your visit accordingly!
URL:https://capecodfamilyresourcecenter.org/event/food-pantry-and-diaper-depot-2/2027-04-07/
LOCATION:Cape Cod Family Resource Center\, 29 Bassett Lane\, Hyannis\, MA\, 02601\, United States
CATEGORIES:For Parents & Caregivers
END:VEVENT
BEGIN:VEVENT
DTSTART;TZID=America/New_York:20270407T120000
DTEND;TZID=America/New_York:20270407T130000
DTSTAMP:20260425T170124
CREATED:20250630T184718Z
LAST-MODIFIED:20250630T184719Z
UID:10001001-1807099200-1807102800@capecodfamilyresourcecenter.org
SUMMARY:Alcoholics Anonymous
DESCRIPTION:
URL:https://capecodfamilyresourcecenter.org/event/alcoholics-anonymous-2/2027-04-07/
LOCATION:Cape Cod Family Resource Center\, 29 Bassett Lane\, Hyannis\, MA\, 02601\, United States
CATEGORIES:For Parents & Caregivers
END:VEVENT
BEGIN:VEVENT
DTSTART;TZID=America/New_York:20270409T090000
DTEND;TZID=America/New_York:20270409T160000
DTSTAMP:20260425T170124
CREATED:20251014T141034Z
LAST-MODIFIED:20251014T141034Z
UID:10004223-1807261200-1807286400@capecodfamilyresourcecenter.org
SUMMARY:Food Pantry and Diaper Depot
DESCRIPTION:Our Food Pantry and Diaper Depot have new operating hours! \nMonday: 8 AM – 6 PM \nWednesday: 8 AM – 5 PM \nFriday: 9 AM – 4 PM \nPlease plan your visit accordingly!
URL:https://capecodfamilyresourcecenter.org/event/food-pantry-and-diaper-depot-3/2027-04-09/
LOCATION:Cape Cod Family Resource Center\, 29 Bassett Lane\, Hyannis\, MA\, 02601\, United States
CATEGORIES:For Parents & Caregivers
END:VEVENT
BEGIN:VEVENT
DTSTART;TZID=America/New_York:20270409T100000
DTEND;TZID=America/New_York:20270409T110000
DTSTAMP:20260425T170124
CREATED:20250630T184813Z
LAST-MODIFIED:20250701T130110Z
UID:10001511-1807264800-1807268400@capecodfamilyresourcecenter.org
SUMMARY:Craft Hour
DESCRIPTION:Parent-Child Craft Hour is a fun and relaxed time for families to get creative together! Join us for simple\, hands-on projects that encourage connection\, conversation\, and creativity between parents and children. All supplies are provided—just bring your imagination and enjoy quality time making something special side by side. \nThis is an in-person\, drop in event with no registration needed!
URL:https://capecodfamilyresourcecenter.org/event/craft-hour/2027-04-09/
LOCATION:Cape Cod Family Resource Center\, 29 Bassett Lane\, Hyannis\, MA\, 02601\, United States
CATEGORIES:For Children & Teens
END:VEVENT
BEGIN:VEVENT
DTSTART;TZID=America/New_York:20270412T080000
DTEND;TZID=America/New_York:20270412T180000
DTSTAMP:20260425T170124
CREATED:20251014T140827Z
LAST-MODIFIED:20251014T140827Z
UID:10003707-1807516800-1807552800@capecodfamilyresourcecenter.org
SUMMARY:Food Pantry and Diaper Depot
DESCRIPTION:Our Food Pantry and Diaper Depot have new operating hours! \nMonday: 8 AM – 6 PM \nWednesday: 8 AM – 5 PM \nFriday: 9 AM – 4 PM \nPlease plan your visit accordingly!
URL:https://capecodfamilyresourcecenter.org/event/food-pantry-and-diaper-depot/2027-04-12/
LOCATION:Cape Cod Family Resource Center\, 29 Bassett Lane\, Hyannis\, MA\, 02601\, United States
CATEGORIES:For Parents & Caregivers
END:VEVENT
BEGIN:VEVENT
DTSTART;TZID=America/New_York:20270412T153000
DTEND;TZID=America/New_York:20270412T173000
DTSTAMP:20260425T170124
CREATED:20250531T134612Z
LAST-MODIFIED:20250923T215331Z
UID:10000100-1807543800-1807551000@capecodfamilyresourcecenter.org
SUMMARY:Thrive!
DESCRIPTION:A welcoming center for youth 22 and under\, offering peer-led\, adult-supported groups for LGBTQ+ youth. Enjoy drop-in hours\, meetings\, field trips\, special events\, and more—all in a safe\, inclusive space that celebrates individuality\, connection\, and community. \nCall (508) 778-7744 to register.
URL:https://capecodfamilyresourcecenter.org/event/thrive/2027-04-12/
LOCATION:We Thrive\, Cape Cod’s LGBTQ+ Youth Center\, 56 Barnstable Road\, Hyannis\, MA\, 02601\, United States
CATEGORIES:For Children & Teens
END:VEVENT
BEGIN:VEVENT
DTSTART;TZID=America/New_York:20270414T080000
DTEND;TZID=America/New_York:20270414T170000
DTSTAMP:20260425T170124
CREATED:20251014T140939Z
LAST-MODIFIED:20251014T140939Z
UID:10003966-1807689600-1807722000@capecodfamilyresourcecenter.org
SUMMARY:Food Pantry and Diaper Depot
DESCRIPTION:Our Food Pantry and Diaper Depot have new operating hours! \nMonday: 8 AM – 6 PM \nWednesday: 8 AM – 5 PM \nFriday: 9 AM – 4 PM \nPlease plan your visit accordingly!
URL:https://capecodfamilyresourcecenter.org/event/food-pantry-and-diaper-depot-2/2027-04-14/
LOCATION:Cape Cod Family Resource Center\, 29 Bassett Lane\, Hyannis\, MA\, 02601\, United States
CATEGORIES:For Parents & Caregivers
END:VEVENT
BEGIN:VEVENT
DTSTART;TZID=America/New_York:20270414T120000
DTEND;TZID=America/New_York:20270414T130000
DTSTAMP:20260425T170124
CREATED:20250630T184718Z
LAST-MODIFIED:20250630T184719Z
UID:10001002-1807704000-1807707600@capecodfamilyresourcecenter.org
SUMMARY:Alcoholics Anonymous
DESCRIPTION:
URL:https://capecodfamilyresourcecenter.org/event/alcoholics-anonymous-2/2027-04-14/
LOCATION:Cape Cod Family Resource Center\, 29 Bassett Lane\, Hyannis\, MA\, 02601\, United States
CATEGORIES:For Parents & Caregivers
END:VEVENT
BEGIN:VEVENT
DTSTART;TZID=America/New_York:20270416T090000
DTEND;TZID=America/New_York:20270416T160000
DTSTAMP:20260425T170124
CREATED:20251014T141034Z
LAST-MODIFIED:20251014T141034Z
UID:10004224-1807866000-1807891200@capecodfamilyresourcecenter.org
SUMMARY:Food Pantry and Diaper Depot
DESCRIPTION:Our Food Pantry and Diaper Depot have new operating hours! \nMonday: 8 AM – 6 PM \nWednesday: 8 AM – 5 PM \nFriday: 9 AM – 4 PM \nPlease plan your visit accordingly!
URL:https://capecodfamilyresourcecenter.org/event/food-pantry-and-diaper-depot-3/2027-04-16/
LOCATION:Cape Cod Family Resource Center\, 29 Bassett Lane\, Hyannis\, MA\, 02601\, United States
CATEGORIES:For Parents & Caregivers
END:VEVENT
BEGIN:VEVENT
DTSTART;TZID=America/New_York:20270416T100000
DTEND;TZID=America/New_York:20270416T110000
DTSTAMP:20260425T170124
CREATED:20250630T184813Z
LAST-MODIFIED:20250701T130110Z
UID:10001512-1807869600-1807873200@capecodfamilyresourcecenter.org
SUMMARY:Craft Hour
DESCRIPTION:Parent-Child Craft Hour is a fun and relaxed time for families to get creative together! Join us for simple\, hands-on projects that encourage connection\, conversation\, and creativity between parents and children. All supplies are provided—just bring your imagination and enjoy quality time making something special side by side. \nThis is an in-person\, drop in event with no registration needed!
URL:https://capecodfamilyresourcecenter.org/event/craft-hour/2027-04-16/
LOCATION:Cape Cod Family Resource Center\, 29 Bassett Lane\, Hyannis\, MA\, 02601\, United States
CATEGORIES:For Children & Teens
END:VEVENT
END:VCALENDAR