BEGIN:VCALENDAR
VERSION:2.0
PRODID:-//Cape Cod Family Resource Center - ECPv6.15.20//NONSGML v1.0//EN
CALSCALE:GREGORIAN
METHOD:PUBLISH
X-WR-CALNAME:Cape Cod Family Resource Center
X-ORIGINAL-URL:https://capecodfamilyresourcecenter.org
X-WR-CALDESC:Events for Cape Cod Family Resource Center
REFRESH-INTERVAL;VALUE=DURATION:PT1H
X-Robots-Tag:noindex
X-PUBLISHED-TTL:PT1H
BEGIN:VTIMEZONE
TZID:America/New_York
BEGIN:DAYLIGHT
TZOFFSETFROM:-0500
TZOFFSETTO:-0400
TZNAME:EDT
DTSTART:20250309T070000
END:DAYLIGHT
BEGIN:STANDARD
TZOFFSETFROM:-0400
TZOFFSETTO:-0500
TZNAME:EST
DTSTART:20251102T060000
END:STANDARD
BEGIN:DAYLIGHT
TZOFFSETFROM:-0500
TZOFFSETTO:-0400
TZNAME:EDT
DTSTART:20260308T070000
END:DAYLIGHT
BEGIN:STANDARD
TZOFFSETFROM:-0400
TZOFFSETTO:-0500
TZNAME:EST
DTSTART:20261101T060000
END:STANDARD
BEGIN:DAYLIGHT
TZOFFSETFROM:-0500
TZOFFSETTO:-0400
TZNAME:EDT
DTSTART:20270314T070000
END:DAYLIGHT
BEGIN:STANDARD
TZOFFSETFROM:-0400
TZOFFSETTO:-0500
TZNAME:EST
DTSTART:20271107T060000
END:STANDARD
BEGIN:DAYLIGHT
TZOFFSETFROM:-0500
TZOFFSETTO:-0400
TZNAME:EDT
DTSTART:20280312T070000
END:DAYLIGHT
BEGIN:STANDARD
TZOFFSETFROM:-0400
TZOFFSETTO:-0500
TZNAME:EST
DTSTART:20281105T060000
END:STANDARD
END:VTIMEZONE
BEGIN:VEVENT
DTSTART;TZID=America/New_York:20261202T080000
DTEND;TZID=America/New_York:20261202T170000
DTSTAMP:20260422T100646
CREATED:20251014T140939Z
LAST-MODIFIED:20251014T140939Z
UID:10003947-1796198400-1796230800@capecodfamilyresourcecenter.org
SUMMARY:Food Pantry and Diaper Depot
DESCRIPTION:Our Food Pantry and Diaper Depot have new operating hours! \nMonday: 8 AM – 6 PM \nWednesday: 8 AM – 5 PM \nFriday: 9 AM – 4 PM \nPlease plan your visit accordingly!
URL:https://capecodfamilyresourcecenter.org/event/food-pantry-and-diaper-depot-2/2026-12-02/
LOCATION:Cape Cod Family Resource Center\, 29 Bassett Lane\, Hyannis\, MA\, 02601\, United States
CATEGORIES:For Parents & Caregivers
END:VEVENT
BEGIN:VEVENT
DTSTART;TZID=America/New_York:20261202T120000
DTEND;TZID=America/New_York:20261202T130000
DTSTAMP:20260422T100646
CREATED:20250630T184718Z
LAST-MODIFIED:20250630T184719Z
UID:10000983-1796212800-1796216400@capecodfamilyresourcecenter.org
SUMMARY:Alcoholics Anonymous
DESCRIPTION:
URL:https://capecodfamilyresourcecenter.org/event/alcoholics-anonymous-2/2026-12-02/
LOCATION:Cape Cod Family Resource Center\, 29 Bassett Lane\, Hyannis\, MA\, 02601\, United States
CATEGORIES:For Parents & Caregivers
END:VEVENT
BEGIN:VEVENT
DTSTART;TZID=America/New_York:20261204T090000
DTEND;TZID=America/New_York:20261204T160000
DTSTAMP:20260422T100646
CREATED:20251014T141034Z
LAST-MODIFIED:20251014T141034Z
UID:10004205-1796374800-1796400000@capecodfamilyresourcecenter.org
SUMMARY:Food Pantry and Diaper Depot
DESCRIPTION:Our Food Pantry and Diaper Depot have new operating hours! \nMonday: 8 AM – 6 PM \nWednesday: 8 AM – 5 PM \nFriday: 9 AM – 4 PM \nPlease plan your visit accordingly!
URL:https://capecodfamilyresourcecenter.org/event/food-pantry-and-diaper-depot-3/2026-12-04/
LOCATION:Cape Cod Family Resource Center\, 29 Bassett Lane\, Hyannis\, MA\, 02601\, United States
CATEGORIES:For Parents & Caregivers
END:VEVENT
BEGIN:VEVENT
DTSTART;TZID=America/New_York:20261207T080000
DTEND;TZID=America/New_York:20261207T180000
DTSTAMP:20260422T100646
CREATED:20251014T140827Z
LAST-MODIFIED:20251014T140827Z
UID:10003689-1796630400-1796666400@capecodfamilyresourcecenter.org
SUMMARY:Food Pantry and Diaper Depot
DESCRIPTION:Our Food Pantry and Diaper Depot have new operating hours! \nMonday: 8 AM – 6 PM \nWednesday: 8 AM – 5 PM \nFriday: 9 AM – 4 PM \nPlease plan your visit accordingly!
URL:https://capecodfamilyresourcecenter.org/event/food-pantry-and-diaper-depot/2026-12-07/
LOCATION:Cape Cod Family Resource Center\, 29 Bassett Lane\, Hyannis\, MA\, 02601\, United States
CATEGORIES:For Parents & Caregivers
END:VEVENT
BEGIN:VEVENT
DTSTART;TZID=America/New_York:20261209T080000
DTEND;TZID=America/New_York:20261209T170000
DTSTAMP:20260422T100646
CREATED:20251014T140939Z
LAST-MODIFIED:20251014T140939Z
UID:10003948-1796803200-1796835600@capecodfamilyresourcecenter.org
SUMMARY:Food Pantry and Diaper Depot
DESCRIPTION:Our Food Pantry and Diaper Depot have new operating hours! \nMonday: 8 AM – 6 PM \nWednesday: 8 AM – 5 PM \nFriday: 9 AM – 4 PM \nPlease plan your visit accordingly!
URL:https://capecodfamilyresourcecenter.org/event/food-pantry-and-diaper-depot-2/2026-12-09/
LOCATION:Cape Cod Family Resource Center\, 29 Bassett Lane\, Hyannis\, MA\, 02601\, United States
CATEGORIES:For Parents & Caregivers
END:VEVENT
BEGIN:VEVENT
DTSTART;TZID=America/New_York:20261209T120000
DTEND;TZID=America/New_York:20261209T130000
DTSTAMP:20260422T100646
CREATED:20250630T184718Z
LAST-MODIFIED:20250630T184719Z
UID:10000984-1796817600-1796821200@capecodfamilyresourcecenter.org
SUMMARY:Alcoholics Anonymous
DESCRIPTION:
URL:https://capecodfamilyresourcecenter.org/event/alcoholics-anonymous-2/2026-12-09/
LOCATION:Cape Cod Family Resource Center\, 29 Bassett Lane\, Hyannis\, MA\, 02601\, United States
CATEGORIES:For Parents & Caregivers
END:VEVENT
BEGIN:VEVENT
DTSTART;TZID=America/New_York:20261211T090000
DTEND;TZID=America/New_York:20261211T160000
DTSTAMP:20260422T100646
CREATED:20251014T141034Z
LAST-MODIFIED:20251014T141034Z
UID:10004206-1796979600-1797004800@capecodfamilyresourcecenter.org
SUMMARY:Food Pantry and Diaper Depot
DESCRIPTION:Our Food Pantry and Diaper Depot have new operating hours! \nMonday: 8 AM – 6 PM \nWednesday: 8 AM – 5 PM \nFriday: 9 AM – 4 PM \nPlease plan your visit accordingly!
URL:https://capecodfamilyresourcecenter.org/event/food-pantry-and-diaper-depot-3/2026-12-11/
LOCATION:Cape Cod Family Resource Center\, 29 Bassett Lane\, Hyannis\, MA\, 02601\, United States
CATEGORIES:For Parents & Caregivers
END:VEVENT
BEGIN:VEVENT
DTSTART;TZID=America/New_York:20261214T080000
DTEND;TZID=America/New_York:20261214T180000
DTSTAMP:20260422T100646
CREATED:20251014T140827Z
LAST-MODIFIED:20251014T140827Z
UID:10003690-1797235200-1797271200@capecodfamilyresourcecenter.org
SUMMARY:Food Pantry and Diaper Depot
DESCRIPTION:Our Food Pantry and Diaper Depot have new operating hours! \nMonday: 8 AM – 6 PM \nWednesday: 8 AM – 5 PM \nFriday: 9 AM – 4 PM \nPlease plan your visit accordingly!
URL:https://capecodfamilyresourcecenter.org/event/food-pantry-and-diaper-depot/2026-12-14/
LOCATION:Cape Cod Family Resource Center\, 29 Bassett Lane\, Hyannis\, MA\, 02601\, United States
CATEGORIES:For Parents & Caregivers
END:VEVENT
BEGIN:VEVENT
DTSTART;TZID=America/New_York:20261215T170000
DTEND;TZID=America/New_York:20261215T190000
DTSTAMP:20260422T100646
CREATED:20250623T144852Z
LAST-MODIFIED:20250623T144947Z
UID:10000728-1797354000-1797361200@capecodfamilyresourcecenter.org
SUMMARY:Grandparents Raising Grandchildren
DESCRIPTION:This group offers a welcoming space for grandparents navigating the unique challenges of raising grandchildren. Come connect with others\, share experiences\, gain support\, and find strength in a community that understands. \nThis event is in-person with dinner and childcare provided. Call (508) 815-5100 to register.
URL:https://capecodfamilyresourcecenter.org/event/grandparents-raising-grandchildren/2026-12-15/
LOCATION:Cape Cod Family Resource Center\, 29 Bassett Lane\, Hyannis\, MA\, 02601\, United States
CATEGORIES:For Parents & Caregivers
END:VEVENT
BEGIN:VEVENT
DTSTART;TZID=America/New_York:20261216T080000
DTEND;TZID=America/New_York:20261216T170000
DTSTAMP:20260422T100646
CREATED:20251014T140939Z
LAST-MODIFIED:20251014T140939Z
UID:10003949-1797408000-1797440400@capecodfamilyresourcecenter.org
SUMMARY:Food Pantry and Diaper Depot
DESCRIPTION:Our Food Pantry and Diaper Depot have new operating hours! \nMonday: 8 AM – 6 PM \nWednesday: 8 AM – 5 PM \nFriday: 9 AM – 4 PM \nPlease plan your visit accordingly!
URL:https://capecodfamilyresourcecenter.org/event/food-pantry-and-diaper-depot-2/2026-12-16/
LOCATION:Cape Cod Family Resource Center\, 29 Bassett Lane\, Hyannis\, MA\, 02601\, United States
CATEGORIES:For Parents & Caregivers
END:VEVENT
BEGIN:VEVENT
DTSTART;TZID=America/New_York:20261216T120000
DTEND;TZID=America/New_York:20261216T130000
DTSTAMP:20260422T100646
CREATED:20250630T184718Z
LAST-MODIFIED:20250630T184719Z
UID:10000985-1797422400-1797426000@capecodfamilyresourcecenter.org
SUMMARY:Alcoholics Anonymous
DESCRIPTION:
URL:https://capecodfamilyresourcecenter.org/event/alcoholics-anonymous-2/2026-12-16/
LOCATION:Cape Cod Family Resource Center\, 29 Bassett Lane\, Hyannis\, MA\, 02601\, United States
CATEGORIES:For Parents & Caregivers
END:VEVENT
BEGIN:VEVENT
DTSTART;TZID=America/New_York:20261218T090000
DTEND;TZID=America/New_York:20261218T160000
DTSTAMP:20260422T100646
CREATED:20251014T141034Z
LAST-MODIFIED:20251014T141034Z
UID:10004207-1797584400-1797609600@capecodfamilyresourcecenter.org
SUMMARY:Food Pantry and Diaper Depot
DESCRIPTION:Our Food Pantry and Diaper Depot have new operating hours! \nMonday: 8 AM – 6 PM \nWednesday: 8 AM – 5 PM \nFriday: 9 AM – 4 PM \nPlease plan your visit accordingly!
URL:https://capecodfamilyresourcecenter.org/event/food-pantry-and-diaper-depot-3/2026-12-18/
LOCATION:Cape Cod Family Resource Center\, 29 Bassett Lane\, Hyannis\, MA\, 02601\, United States
CATEGORIES:For Parents & Caregivers
END:VEVENT
BEGIN:VEVENT
DTSTART;TZID=America/New_York:20261221T080000
DTEND;TZID=America/New_York:20261221T180000
DTSTAMP:20260422T100646
CREATED:20251014T140827Z
LAST-MODIFIED:20251014T140827Z
UID:10003691-1797840000-1797876000@capecodfamilyresourcecenter.org
SUMMARY:Food Pantry and Diaper Depot
DESCRIPTION:Our Food Pantry and Diaper Depot have new operating hours! \nMonday: 8 AM – 6 PM \nWednesday: 8 AM – 5 PM \nFriday: 9 AM – 4 PM \nPlease plan your visit accordingly!
URL:https://capecodfamilyresourcecenter.org/event/food-pantry-and-diaper-depot/2026-12-21/
LOCATION:Cape Cod Family Resource Center\, 29 Bassett Lane\, Hyannis\, MA\, 02601\, United States
CATEGORIES:For Parents & Caregivers
END:VEVENT
BEGIN:VEVENT
DTSTART;TZID=America/New_York:20261222T100000
DTEND;TZID=America/New_York:20261222T130000
DTSTAMP:20260422T100646
CREATED:20250829T175133Z
LAST-MODIFIED:20250905T174528Z
UID:10003222-1797933600-1797944400@capecodfamilyresourcecenter.org
SUMMARY:FRC Pop-Up at CCCP in Eastham
DESCRIPTION:Our FRC is Rolling Your Way!\nStarting September 23rd\, we’re hitting the road every 4th Tuesday of the month to bring essential resources straight to you!\nLocation: Cape Cod Children’s Place\n10 AM – 1 PM\nSwing by our pop-up event for:\nBasic Needs\nDiaper Depot\nSchool Support\nCommunity Resources\n…and so much more!\nCome connect\, stock up\, and get the support you need—right in your neighborhood! \n 
URL:https://capecodfamilyresourcecenter.org/event/frc-pop-up-at-cccp-in-eastham/2026-12-22/
LOCATION:Cape Cod Children’s Place\, 10 Ballwic Road\, Eastham\, MA\, 02642\, United States
CATEGORIES:For Parents & Caregivers
END:VEVENT
BEGIN:VEVENT
DTSTART;TZID=America/New_York:20261223T080000
DTEND;TZID=America/New_York:20261223T170000
DTSTAMP:20260422T100646
CREATED:20251014T140939Z
LAST-MODIFIED:20251014T140939Z
UID:10003950-1798012800-1798045200@capecodfamilyresourcecenter.org
SUMMARY:Food Pantry and Diaper Depot
DESCRIPTION:Our Food Pantry and Diaper Depot have new operating hours! \nMonday: 8 AM – 6 PM \nWednesday: 8 AM – 5 PM \nFriday: 9 AM – 4 PM \nPlease plan your visit accordingly!
URL:https://capecodfamilyresourcecenter.org/event/food-pantry-and-diaper-depot-2/2026-12-23/
LOCATION:Cape Cod Family Resource Center\, 29 Bassett Lane\, Hyannis\, MA\, 02601\, United States
CATEGORIES:For Parents & Caregivers
END:VEVENT
BEGIN:VEVENT
DTSTART;TZID=America/New_York:20261223T120000
DTEND;TZID=America/New_York:20261223T130000
DTSTAMP:20260422T100646
CREATED:20250630T184718Z
LAST-MODIFIED:20250630T184719Z
UID:10000986-1798027200-1798030800@capecodfamilyresourcecenter.org
SUMMARY:Alcoholics Anonymous
DESCRIPTION:
URL:https://capecodfamilyresourcecenter.org/event/alcoholics-anonymous-2/2026-12-23/
LOCATION:Cape Cod Family Resource Center\, 29 Bassett Lane\, Hyannis\, MA\, 02601\, United States
CATEGORIES:For Parents & Caregivers
END:VEVENT
BEGIN:VEVENT
DTSTART;TZID=America/New_York:20261225T090000
DTEND;TZID=America/New_York:20261225T160000
DTSTAMP:20260422T100646
CREATED:20251014T141034Z
LAST-MODIFIED:20251014T141034Z
UID:10004208-1798189200-1798214400@capecodfamilyresourcecenter.org
SUMMARY:Food Pantry and Diaper Depot
DESCRIPTION:Our Food Pantry and Diaper Depot have new operating hours! \nMonday: 8 AM – 6 PM \nWednesday: 8 AM – 5 PM \nFriday: 9 AM – 4 PM \nPlease plan your visit accordingly!
URL:https://capecodfamilyresourcecenter.org/event/food-pantry-and-diaper-depot-3/2026-12-25/
LOCATION:Cape Cod Family Resource Center\, 29 Bassett Lane\, Hyannis\, MA\, 02601\, United States
CATEGORIES:For Parents & Caregivers
END:VEVENT
BEGIN:VEVENT
DTSTART;TZID=America/New_York:20261228T080000
DTEND;TZID=America/New_York:20261228T180000
DTSTAMP:20260422T100646
CREATED:20251014T140827Z
LAST-MODIFIED:20251014T140827Z
UID:10003692-1798444800-1798480800@capecodfamilyresourcecenter.org
SUMMARY:Food Pantry and Diaper Depot
DESCRIPTION:Our Food Pantry and Diaper Depot have new operating hours! \nMonday: 8 AM – 6 PM \nWednesday: 8 AM – 5 PM \nFriday: 9 AM – 4 PM \nPlease plan your visit accordingly!
URL:https://capecodfamilyresourcecenter.org/event/food-pantry-and-diaper-depot/2026-12-28/
LOCATION:Cape Cod Family Resource Center\, 29 Bassett Lane\, Hyannis\, MA\, 02601\, United States
CATEGORIES:For Parents & Caregivers
END:VEVENT
BEGIN:VEVENT
DTSTART;TZID=America/New_York:20261230T080000
DTEND;TZID=America/New_York:20261230T170000
DTSTAMP:20260422T100646
CREATED:20251014T140939Z
LAST-MODIFIED:20251014T140939Z
UID:10003951-1798617600-1798650000@capecodfamilyresourcecenter.org
SUMMARY:Food Pantry and Diaper Depot
DESCRIPTION:Our Food Pantry and Diaper Depot have new operating hours! \nMonday: 8 AM – 6 PM \nWednesday: 8 AM – 5 PM \nFriday: 9 AM – 4 PM \nPlease plan your visit accordingly!
URL:https://capecodfamilyresourcecenter.org/event/food-pantry-and-diaper-depot-2/2026-12-30/
LOCATION:Cape Cod Family Resource Center\, 29 Bassett Lane\, Hyannis\, MA\, 02601\, United States
CATEGORIES:For Parents & Caregivers
END:VEVENT
BEGIN:VEVENT
DTSTART;TZID=America/New_York:20261230T120000
DTEND;TZID=America/New_York:20261230T130000
DTSTAMP:20260422T100646
CREATED:20250630T184718Z
LAST-MODIFIED:20250630T184719Z
UID:10000987-1798632000-1798635600@capecodfamilyresourcecenter.org
SUMMARY:Alcoholics Anonymous
DESCRIPTION:
URL:https://capecodfamilyresourcecenter.org/event/alcoholics-anonymous-2/2026-12-30/
LOCATION:Cape Cod Family Resource Center\, 29 Bassett Lane\, Hyannis\, MA\, 02601\, United States
CATEGORIES:For Parents & Caregivers
END:VEVENT
BEGIN:VEVENT
DTSTART;TZID=America/New_York:20270101T090000
DTEND;TZID=America/New_York:20270101T160000
DTSTAMP:20260422T100646
CREATED:20251014T141034Z
LAST-MODIFIED:20251014T141034Z
UID:10004209-1798794000-1798819200@capecodfamilyresourcecenter.org
SUMMARY:Food Pantry and Diaper Depot
DESCRIPTION:Our Food Pantry and Diaper Depot have new operating hours! \nMonday: 8 AM – 6 PM \nWednesday: 8 AM – 5 PM \nFriday: 9 AM – 4 PM \nPlease plan your visit accordingly!
URL:https://capecodfamilyresourcecenter.org/event/food-pantry-and-diaper-depot-3/2027-01-01/
LOCATION:Cape Cod Family Resource Center\, 29 Bassett Lane\, Hyannis\, MA\, 02601\, United States
CATEGORIES:For Parents & Caregivers
END:VEVENT
BEGIN:VEVENT
DTSTART;TZID=America/New_York:20270104T080000
DTEND;TZID=America/New_York:20270104T180000
DTSTAMP:20260422T100646
CREATED:20251014T140827Z
LAST-MODIFIED:20251014T140827Z
UID:10003693-1799049600-1799085600@capecodfamilyresourcecenter.org
SUMMARY:Food Pantry and Diaper Depot
DESCRIPTION:Our Food Pantry and Diaper Depot have new operating hours! \nMonday: 8 AM – 6 PM \nWednesday: 8 AM – 5 PM \nFriday: 9 AM – 4 PM \nPlease plan your visit accordingly!
URL:https://capecodfamilyresourcecenter.org/event/food-pantry-and-diaper-depot/2027-01-04/
LOCATION:Cape Cod Family Resource Center\, 29 Bassett Lane\, Hyannis\, MA\, 02601\, United States
CATEGORIES:For Parents & Caregivers
END:VEVENT
BEGIN:VEVENT
DTSTART;TZID=America/New_York:20270106T080000
DTEND;TZID=America/New_York:20270106T170000
DTSTAMP:20260422T100646
CREATED:20251014T140939Z
LAST-MODIFIED:20251014T140939Z
UID:10003952-1799222400-1799254800@capecodfamilyresourcecenter.org
SUMMARY:Food Pantry and Diaper Depot
DESCRIPTION:Our Food Pantry and Diaper Depot have new operating hours! \nMonday: 8 AM – 6 PM \nWednesday: 8 AM – 5 PM \nFriday: 9 AM – 4 PM \nPlease plan your visit accordingly!
URL:https://capecodfamilyresourcecenter.org/event/food-pantry-and-diaper-depot-2/2027-01-06/
LOCATION:Cape Cod Family Resource Center\, 29 Bassett Lane\, Hyannis\, MA\, 02601\, United States
CATEGORIES:For Parents & Caregivers
END:VEVENT
BEGIN:VEVENT
DTSTART;TZID=America/New_York:20270106T120000
DTEND;TZID=America/New_York:20270106T130000
DTSTAMP:20260422T100646
CREATED:20250630T184718Z
LAST-MODIFIED:20250630T184719Z
UID:10000988-1799236800-1799240400@capecodfamilyresourcecenter.org
SUMMARY:Alcoholics Anonymous
DESCRIPTION:
URL:https://capecodfamilyresourcecenter.org/event/alcoholics-anonymous-2/2027-01-06/
LOCATION:Cape Cod Family Resource Center\, 29 Bassett Lane\, Hyannis\, MA\, 02601\, United States
CATEGORIES:For Parents & Caregivers
END:VEVENT
BEGIN:VEVENT
DTSTART;TZID=America/New_York:20270108T090000
DTEND;TZID=America/New_York:20270108T160000
DTSTAMP:20260422T100646
CREATED:20251014T141034Z
LAST-MODIFIED:20251014T141034Z
UID:10004210-1799398800-1799424000@capecodfamilyresourcecenter.org
SUMMARY:Food Pantry and Diaper Depot
DESCRIPTION:Our Food Pantry and Diaper Depot have new operating hours! \nMonday: 8 AM – 6 PM \nWednesday: 8 AM – 5 PM \nFriday: 9 AM – 4 PM \nPlease plan your visit accordingly!
URL:https://capecodfamilyresourcecenter.org/event/food-pantry-and-diaper-depot-3/2027-01-08/
LOCATION:Cape Cod Family Resource Center\, 29 Bassett Lane\, Hyannis\, MA\, 02601\, United States
CATEGORIES:For Parents & Caregivers
END:VEVENT
BEGIN:VEVENT
DTSTART;TZID=America/New_York:20270111T080000
DTEND;TZID=America/New_York:20270111T180000
DTSTAMP:20260422T100646
CREATED:20251014T140827Z
LAST-MODIFIED:20251014T140827Z
UID:10003694-1799654400-1799690400@capecodfamilyresourcecenter.org
SUMMARY:Food Pantry and Diaper Depot
DESCRIPTION:Our Food Pantry and Diaper Depot have new operating hours! \nMonday: 8 AM – 6 PM \nWednesday: 8 AM – 5 PM \nFriday: 9 AM – 4 PM \nPlease plan your visit accordingly!
URL:https://capecodfamilyresourcecenter.org/event/food-pantry-and-diaper-depot/2027-01-11/
LOCATION:Cape Cod Family Resource Center\, 29 Bassett Lane\, Hyannis\, MA\, 02601\, United States
CATEGORIES:For Parents & Caregivers
END:VEVENT
BEGIN:VEVENT
DTSTART;TZID=America/New_York:20270113T080000
DTEND;TZID=America/New_York:20270113T170000
DTSTAMP:20260422T100646
CREATED:20251014T140939Z
LAST-MODIFIED:20251014T140939Z
UID:10003953-1799827200-1799859600@capecodfamilyresourcecenter.org
SUMMARY:Food Pantry and Diaper Depot
DESCRIPTION:Our Food Pantry and Diaper Depot have new operating hours! \nMonday: 8 AM – 6 PM \nWednesday: 8 AM – 5 PM \nFriday: 9 AM – 4 PM \nPlease plan your visit accordingly!
URL:https://capecodfamilyresourcecenter.org/event/food-pantry-and-diaper-depot-2/2027-01-13/
LOCATION:Cape Cod Family Resource Center\, 29 Bassett Lane\, Hyannis\, MA\, 02601\, United States
CATEGORIES:For Parents & Caregivers
END:VEVENT
BEGIN:VEVENT
DTSTART;TZID=America/New_York:20270113T120000
DTEND;TZID=America/New_York:20270113T130000
DTSTAMP:20260422T100646
CREATED:20250630T184718Z
LAST-MODIFIED:20250630T184719Z
UID:10000989-1799841600-1799845200@capecodfamilyresourcecenter.org
SUMMARY:Alcoholics Anonymous
DESCRIPTION:
URL:https://capecodfamilyresourcecenter.org/event/alcoholics-anonymous-2/2027-01-13/
LOCATION:Cape Cod Family Resource Center\, 29 Bassett Lane\, Hyannis\, MA\, 02601\, United States
CATEGORIES:For Parents & Caregivers
END:VEVENT
BEGIN:VEVENT
DTSTART;TZID=America/New_York:20270115T090000
DTEND;TZID=America/New_York:20270115T160000
DTSTAMP:20260422T100646
CREATED:20251014T141034Z
LAST-MODIFIED:20251014T141034Z
UID:10004211-1800003600-1800028800@capecodfamilyresourcecenter.org
SUMMARY:Food Pantry and Diaper Depot
DESCRIPTION:Our Food Pantry and Diaper Depot have new operating hours! \nMonday: 8 AM – 6 PM \nWednesday: 8 AM – 5 PM \nFriday: 9 AM – 4 PM \nPlease plan your visit accordingly!
URL:https://capecodfamilyresourcecenter.org/event/food-pantry-and-diaper-depot-3/2027-01-15/
LOCATION:Cape Cod Family Resource Center\, 29 Bassett Lane\, Hyannis\, MA\, 02601\, United States
CATEGORIES:For Parents & Caregivers
END:VEVENT
BEGIN:VEVENT
DTSTART;TZID=America/New_York:20270118T080000
DTEND;TZID=America/New_York:20270118T180000
DTSTAMP:20260422T100646
CREATED:20251014T140827Z
LAST-MODIFIED:20251014T140827Z
UID:10003695-1800259200-1800295200@capecodfamilyresourcecenter.org
SUMMARY:Food Pantry and Diaper Depot
DESCRIPTION:Our Food Pantry and Diaper Depot have new operating hours! \nMonday: 8 AM – 6 PM \nWednesday: 8 AM – 5 PM \nFriday: 9 AM – 4 PM \nPlease plan your visit accordingly!
URL:https://capecodfamilyresourcecenter.org/event/food-pantry-and-diaper-depot/2027-01-18/
LOCATION:Cape Cod Family Resource Center\, 29 Bassett Lane\, Hyannis\, MA\, 02601\, United States
CATEGORIES:For Parents & Caregivers
END:VEVENT
END:VCALENDAR