BEGIN:VCALENDAR
VERSION:2.0
PRODID:-//Cape Cod Family Resource Center - ECPv6.15.20//NONSGML v1.0//EN
CALSCALE:GREGORIAN
METHOD:PUBLISH
X-WR-CALNAME:Cape Cod Family Resource Center
X-ORIGINAL-URL:https://capecodfamilyresourcecenter.org
X-WR-CALDESC:Events for Cape Cod Family Resource Center
REFRESH-INTERVAL;VALUE=DURATION:PT1H
X-Robots-Tag:noindex
X-PUBLISHED-TTL:PT1H
BEGIN:VTIMEZONE
TZID:America/New_York
BEGIN:DAYLIGHT
TZOFFSETFROM:-0500
TZOFFSETTO:-0400
TZNAME:EDT
DTSTART:20240310T070000
END:DAYLIGHT
BEGIN:STANDARD
TZOFFSETFROM:-0400
TZOFFSETTO:-0500
TZNAME:EST
DTSTART:20241103T060000
END:STANDARD
BEGIN:DAYLIGHT
TZOFFSETFROM:-0500
TZOFFSETTO:-0400
TZNAME:EDT
DTSTART:20250309T070000
END:DAYLIGHT
BEGIN:STANDARD
TZOFFSETFROM:-0400
TZOFFSETTO:-0500
TZNAME:EST
DTSTART:20251102T060000
END:STANDARD
BEGIN:DAYLIGHT
TZOFFSETFROM:-0500
TZOFFSETTO:-0400
TZNAME:EDT
DTSTART:20260308T070000
END:DAYLIGHT
BEGIN:STANDARD
TZOFFSETFROM:-0400
TZOFFSETTO:-0500
TZNAME:EST
DTSTART:20261101T060000
END:STANDARD
BEGIN:DAYLIGHT
TZOFFSETFROM:-0500
TZOFFSETTO:-0400
TZNAME:EDT
DTSTART:20270314T070000
END:DAYLIGHT
BEGIN:STANDARD
TZOFFSETFROM:-0400
TZOFFSETTO:-0500
TZNAME:EST
DTSTART:20271107T060000
END:STANDARD
END:VTIMEZONE
BEGIN:VEVENT
DTSTART;TZID=America/New_York:20260309T153000
DTEND;TZID=America/New_York:20260309T173000
DTSTAMP:20260422T123104
CREATED:20250531T134612Z
LAST-MODIFIED:20250923T215331Z
UID:10000043-1773070200-1773077400@capecodfamilyresourcecenter.org
SUMMARY:Thrive!
DESCRIPTION:A welcoming center for youth 22 and under\, offering peer-led\, adult-supported groups for LGBTQ+ youth. Enjoy drop-in hours\, meetings\, field trips\, special events\, and more—all in a safe\, inclusive space that celebrates individuality\, connection\, and community. \nCall (508) 778-7744 to register.
URL:https://capecodfamilyresourcecenter.org/event/thrive/2026-03-09/
LOCATION:We Thrive\, Cape Cod’s LGBTQ+ Youth Center\, 56 Barnstable Road\, Hyannis\, MA\, 02601\, United States
CATEGORIES:For Children & Teens
END:VEVENT
BEGIN:VEVENT
DTSTART;TZID=America/New_York:20260306T100000
DTEND;TZID=America/New_York:20260306T110000
DTSTAMP:20260422T123104
CREATED:20250630T184813Z
LAST-MODIFIED:20250701T130110Z
UID:10001454-1772791200-1772794800@capecodfamilyresourcecenter.org
SUMMARY:Craft Hour
DESCRIPTION:Parent-Child Craft Hour is a fun and relaxed time for families to get creative together! Join us for simple\, hands-on projects that encourage connection\, conversation\, and creativity between parents and children. All supplies are provided—just bring your imagination and enjoy quality time making something special side by side. \nThis is an in-person\, drop in event with no registration needed!
URL:https://capecodfamilyresourcecenter.org/event/craft-hour/2026-03-06/
LOCATION:Cape Cod Family Resource Center\, 29 Bassett Lane\, Hyannis\, MA\, 02601\, United States
CATEGORIES:For Children & Teens
END:VEVENT
BEGIN:VEVENT
DTSTART;TZID=America/New_York:20260302T153000
DTEND;TZID=America/New_York:20260302T173000
DTSTAMP:20260422T123104
CREATED:20250531T134612Z
LAST-MODIFIED:20250923T215331Z
UID:10000042-1772465400-1772472600@capecodfamilyresourcecenter.org
SUMMARY:Thrive!
DESCRIPTION:A welcoming center for youth 22 and under\, offering peer-led\, adult-supported groups for LGBTQ+ youth. Enjoy drop-in hours\, meetings\, field trips\, special events\, and more—all in a safe\, inclusive space that celebrates individuality\, connection\, and community. \nCall (508) 778-7744 to register.
URL:https://capecodfamilyresourcecenter.org/event/thrive/2026-03-02/
LOCATION:We Thrive\, Cape Cod’s LGBTQ+ Youth Center\, 56 Barnstable Road\, Hyannis\, MA\, 02601\, United States
CATEGORIES:For Children & Teens
END:VEVENT
BEGIN:VEVENT
DTSTART;TZID=America/New_York:20260227T100000
DTEND;TZID=America/New_York:20260227T110000
DTSTAMP:20260422T123104
CREATED:20250630T184813Z
LAST-MODIFIED:20250701T130110Z
UID:10001453-1772186400-1772190000@capecodfamilyresourcecenter.org
SUMMARY:Craft Hour
DESCRIPTION:Parent-Child Craft Hour is a fun and relaxed time for families to get creative together! Join us for simple\, hands-on projects that encourage connection\, conversation\, and creativity between parents and children. All supplies are provided—just bring your imagination and enjoy quality time making something special side by side. \nThis is an in-person\, drop in event with no registration needed!
URL:https://capecodfamilyresourcecenter.org/event/craft-hour/2026-02-27/
LOCATION:Cape Cod Family Resource Center\, 29 Bassett Lane\, Hyannis\, MA\, 02601\, United States
CATEGORIES:For Children & Teens
END:VEVENT
BEGIN:VEVENT
DTSTART;TZID=America/New_York:20260223T153000
DTEND;TZID=America/New_York:20260223T173000
DTSTAMP:20260422T123104
CREATED:20250531T134612Z
LAST-MODIFIED:20250923T215331Z
UID:10000041-1771860600-1771867800@capecodfamilyresourcecenter.org
SUMMARY:Thrive!
DESCRIPTION:A welcoming center for youth 22 and under\, offering peer-led\, adult-supported groups for LGBTQ+ youth. Enjoy drop-in hours\, meetings\, field trips\, special events\, and more—all in a safe\, inclusive space that celebrates individuality\, connection\, and community. \nCall (508) 778-7744 to register.
URL:https://capecodfamilyresourcecenter.org/event/thrive/2026-02-23/
LOCATION:We Thrive\, Cape Cod’s LGBTQ+ Youth Center\, 56 Barnstable Road\, Hyannis\, MA\, 02601\, United States
CATEGORIES:For Children & Teens
END:VEVENT
BEGIN:VEVENT
DTSTART;TZID=America/New_York:20260220T100000
DTEND;TZID=America/New_York:20260220T110000
DTSTAMP:20260422T123104
CREATED:20250630T184813Z
LAST-MODIFIED:20250701T130110Z
UID:10001452-1771581600-1771585200@capecodfamilyresourcecenter.org
SUMMARY:Craft Hour
DESCRIPTION:Parent-Child Craft Hour is a fun and relaxed time for families to get creative together! Join us for simple\, hands-on projects that encourage connection\, conversation\, and creativity between parents and children. All supplies are provided—just bring your imagination and enjoy quality time making something special side by side. \nThis is an in-person\, drop in event with no registration needed!
URL:https://capecodfamilyresourcecenter.org/event/craft-hour/2026-02-20/
LOCATION:Cape Cod Family Resource Center\, 29 Bassett Lane\, Hyannis\, MA\, 02601\, United States
CATEGORIES:For Children & Teens
END:VEVENT
BEGIN:VEVENT
DTSTART;TZID=America/New_York:20260216T153000
DTEND;TZID=America/New_York:20260216T173000
DTSTAMP:20260422T123104
CREATED:20250531T134612Z
LAST-MODIFIED:20250923T215331Z
UID:10000040-1771255800-1771263000@capecodfamilyresourcecenter.org
SUMMARY:Thrive!
DESCRIPTION:A welcoming center for youth 22 and under\, offering peer-led\, adult-supported groups for LGBTQ+ youth. Enjoy drop-in hours\, meetings\, field trips\, special events\, and more—all in a safe\, inclusive space that celebrates individuality\, connection\, and community. \nCall (508) 778-7744 to register.
URL:https://capecodfamilyresourcecenter.org/event/thrive/2026-02-16/
LOCATION:We Thrive\, Cape Cod’s LGBTQ+ Youth Center\, 56 Barnstable Road\, Hyannis\, MA\, 02601\, United States
CATEGORIES:For Children & Teens
END:VEVENT
BEGIN:VEVENT
DTSTART;TZID=America/New_York:20260213T100000
DTEND;TZID=America/New_York:20260213T110000
DTSTAMP:20260422T123104
CREATED:20250630T184813Z
LAST-MODIFIED:20250701T130110Z
UID:10001451-1770976800-1770980400@capecodfamilyresourcecenter.org
SUMMARY:Craft Hour
DESCRIPTION:Parent-Child Craft Hour is a fun and relaxed time for families to get creative together! Join us for simple\, hands-on projects that encourage connection\, conversation\, and creativity between parents and children. All supplies are provided—just bring your imagination and enjoy quality time making something special side by side. \nThis is an in-person\, drop in event with no registration needed!
URL:https://capecodfamilyresourcecenter.org/event/craft-hour/2026-02-13/
LOCATION:Cape Cod Family Resource Center\, 29 Bassett Lane\, Hyannis\, MA\, 02601\, United States
CATEGORIES:For Children & Teens
END:VEVENT
BEGIN:VEVENT
DTSTART;TZID=America/New_York:20260209T153000
DTEND;TZID=America/New_York:20260209T173000
DTSTAMP:20260422T123104
CREATED:20250531T134612Z
LAST-MODIFIED:20250923T215331Z
UID:10000039-1770651000-1770658200@capecodfamilyresourcecenter.org
SUMMARY:Thrive!
DESCRIPTION:A welcoming center for youth 22 and under\, offering peer-led\, adult-supported groups for LGBTQ+ youth. Enjoy drop-in hours\, meetings\, field trips\, special events\, and more—all in a safe\, inclusive space that celebrates individuality\, connection\, and community. \nCall (508) 778-7744 to register.
URL:https://capecodfamilyresourcecenter.org/event/thrive/2026-02-09/
LOCATION:We Thrive\, Cape Cod’s LGBTQ+ Youth Center\, 56 Barnstable Road\, Hyannis\, MA\, 02601\, United States
CATEGORIES:For Children & Teens
END:VEVENT
BEGIN:VEVENT
DTSTART;TZID=America/New_York:20260206T100000
DTEND;TZID=America/New_York:20260206T110000
DTSTAMP:20260422T123104
CREATED:20250630T184813Z
LAST-MODIFIED:20250701T130110Z
UID:10001450-1770372000-1770375600@capecodfamilyresourcecenter.org
SUMMARY:Craft Hour
DESCRIPTION:Parent-Child Craft Hour is a fun and relaxed time for families to get creative together! Join us for simple\, hands-on projects that encourage connection\, conversation\, and creativity between parents and children. All supplies are provided—just bring your imagination and enjoy quality time making something special side by side. \nThis is an in-person\, drop in event with no registration needed!
URL:https://capecodfamilyresourcecenter.org/event/craft-hour/2026-02-06/
LOCATION:Cape Cod Family Resource Center\, 29 Bassett Lane\, Hyannis\, MA\, 02601\, United States
CATEGORIES:For Children & Teens
END:VEVENT
BEGIN:VEVENT
DTSTART;TZID=America/New_York:20260202T153000
DTEND;TZID=America/New_York:20260202T173000
DTSTAMP:20260422T123104
CREATED:20250531T134612Z
LAST-MODIFIED:20250923T215331Z
UID:10000038-1770046200-1770053400@capecodfamilyresourcecenter.org
SUMMARY:Thrive!
DESCRIPTION:A welcoming center for youth 22 and under\, offering peer-led\, adult-supported groups for LGBTQ+ youth. Enjoy drop-in hours\, meetings\, field trips\, special events\, and more—all in a safe\, inclusive space that celebrates individuality\, connection\, and community. \nCall (508) 778-7744 to register.
URL:https://capecodfamilyresourcecenter.org/event/thrive/2026-02-02/
LOCATION:We Thrive\, Cape Cod’s LGBTQ+ Youth Center\, 56 Barnstable Road\, Hyannis\, MA\, 02601\, United States
CATEGORIES:For Children & Teens
END:VEVENT
BEGIN:VEVENT
DTSTART;TZID=America/New_York:20260130T100000
DTEND;TZID=America/New_York:20260130T110000
DTSTAMP:20260422T123104
CREATED:20250630T184813Z
LAST-MODIFIED:20250701T130110Z
UID:10001449-1769767200-1769770800@capecodfamilyresourcecenter.org
SUMMARY:Craft Hour
DESCRIPTION:Parent-Child Craft Hour is a fun and relaxed time for families to get creative together! Join us for simple\, hands-on projects that encourage connection\, conversation\, and creativity between parents and children. All supplies are provided—just bring your imagination and enjoy quality time making something special side by side. \nThis is an in-person\, drop in event with no registration needed!
URL:https://capecodfamilyresourcecenter.org/event/craft-hour/2026-01-30/
LOCATION:Cape Cod Family Resource Center\, 29 Bassett Lane\, Hyannis\, MA\, 02601\, United States
CATEGORIES:For Children & Teens
END:VEVENT
BEGIN:VEVENT
DTSTART;TZID=America/New_York:20260126T153000
DTEND;TZID=America/New_York:20260126T173000
DTSTAMP:20260422T123104
CREATED:20250531T134612Z
LAST-MODIFIED:20250923T215331Z
UID:10000037-1769441400-1769448600@capecodfamilyresourcecenter.org
SUMMARY:Thrive!
DESCRIPTION:A welcoming center for youth 22 and under\, offering peer-led\, adult-supported groups for LGBTQ+ youth. Enjoy drop-in hours\, meetings\, field trips\, special events\, and more—all in a safe\, inclusive space that celebrates individuality\, connection\, and community. \nCall (508) 778-7744 to register.
URL:https://capecodfamilyresourcecenter.org/event/thrive/2026-01-26/
LOCATION:We Thrive\, Cape Cod’s LGBTQ+ Youth Center\, 56 Barnstable Road\, Hyannis\, MA\, 02601\, United States
CATEGORIES:For Children & Teens
END:VEVENT
BEGIN:VEVENT
DTSTART;TZID=America/New_York:20260123T100000
DTEND;TZID=America/New_York:20260123T110000
DTSTAMP:20260422T123104
CREATED:20250630T184813Z
LAST-MODIFIED:20250701T130110Z
UID:10001448-1769162400-1769166000@capecodfamilyresourcecenter.org
SUMMARY:Craft Hour
DESCRIPTION:Parent-Child Craft Hour is a fun and relaxed time for families to get creative together! Join us for simple\, hands-on projects that encourage connection\, conversation\, and creativity between parents and children. All supplies are provided—just bring your imagination and enjoy quality time making something special side by side. \nThis is an in-person\, drop in event with no registration needed!
URL:https://capecodfamilyresourcecenter.org/event/craft-hour/2026-01-23/
LOCATION:Cape Cod Family Resource Center\, 29 Bassett Lane\, Hyannis\, MA\, 02601\, United States
CATEGORIES:For Children & Teens
END:VEVENT
BEGIN:VEVENT
DTSTART;TZID=America/New_York:20260119T153000
DTEND;TZID=America/New_York:20260119T173000
DTSTAMP:20260422T123104
CREATED:20250531T134612Z
LAST-MODIFIED:20250923T215331Z
UID:10000036-1768836600-1768843800@capecodfamilyresourcecenter.org
SUMMARY:Thrive!
DESCRIPTION:A welcoming center for youth 22 and under\, offering peer-led\, adult-supported groups for LGBTQ+ youth. Enjoy drop-in hours\, meetings\, field trips\, special events\, and more—all in a safe\, inclusive space that celebrates individuality\, connection\, and community. \nCall (508) 778-7744 to register.
URL:https://capecodfamilyresourcecenter.org/event/thrive/2026-01-19/
LOCATION:We Thrive\, Cape Cod’s LGBTQ+ Youth Center\, 56 Barnstable Road\, Hyannis\, MA\, 02601\, United States
CATEGORIES:For Children & Teens
END:VEVENT
BEGIN:VEVENT
DTSTART;TZID=America/New_York:20260116T100000
DTEND;TZID=America/New_York:20260116T110000
DTSTAMP:20260422T123104
CREATED:20250630T184813Z
LAST-MODIFIED:20250701T130110Z
UID:10001447-1768557600-1768561200@capecodfamilyresourcecenter.org
SUMMARY:Craft Hour
DESCRIPTION:Parent-Child Craft Hour is a fun and relaxed time for families to get creative together! Join us for simple\, hands-on projects that encourage connection\, conversation\, and creativity between parents and children. All supplies are provided—just bring your imagination and enjoy quality time making something special side by side. \nThis is an in-person\, drop in event with no registration needed!
URL:https://capecodfamilyresourcecenter.org/event/craft-hour/2026-01-16/
LOCATION:Cape Cod Family Resource Center\, 29 Bassett Lane\, Hyannis\, MA\, 02601\, United States
CATEGORIES:For Children & Teens
END:VEVENT
BEGIN:VEVENT
DTSTART;TZID=America/New_York:20260112T153000
DTEND;TZID=America/New_York:20260112T173000
DTSTAMP:20260422T123104
CREATED:20250531T134612Z
LAST-MODIFIED:20250923T215331Z
UID:10000035-1768231800-1768239000@capecodfamilyresourcecenter.org
SUMMARY:Thrive!
DESCRIPTION:A welcoming center for youth 22 and under\, offering peer-led\, adult-supported groups for LGBTQ+ youth. Enjoy drop-in hours\, meetings\, field trips\, special events\, and more—all in a safe\, inclusive space that celebrates individuality\, connection\, and community. \nCall (508) 778-7744 to register.
URL:https://capecodfamilyresourcecenter.org/event/thrive/2026-01-12/
LOCATION:We Thrive\, Cape Cod’s LGBTQ+ Youth Center\, 56 Barnstable Road\, Hyannis\, MA\, 02601\, United States
CATEGORIES:For Children & Teens
END:VEVENT
BEGIN:VEVENT
DTSTART;TZID=America/New_York:20260109T100000
DTEND;TZID=America/New_York:20260109T110000
DTSTAMP:20260422T123104
CREATED:20250630T184813Z
LAST-MODIFIED:20250701T130110Z
UID:10001446-1767952800-1767956400@capecodfamilyresourcecenter.org
SUMMARY:Craft Hour
DESCRIPTION:Parent-Child Craft Hour is a fun and relaxed time for families to get creative together! Join us for simple\, hands-on projects that encourage connection\, conversation\, and creativity between parents and children. All supplies are provided—just bring your imagination and enjoy quality time making something special side by side. \nThis is an in-person\, drop in event with no registration needed!
URL:https://capecodfamilyresourcecenter.org/event/craft-hour/2026-01-09/
LOCATION:Cape Cod Family Resource Center\, 29 Bassett Lane\, Hyannis\, MA\, 02601\, United States
CATEGORIES:For Children & Teens
END:VEVENT
BEGIN:VEVENT
DTSTART;TZID=America/New_York:20260105T153000
DTEND;TZID=America/New_York:20260105T173000
DTSTAMP:20260422T123104
CREATED:20250531T134612Z
LAST-MODIFIED:20250923T215331Z
UID:10000034-1767627000-1767634200@capecodfamilyresourcecenter.org
SUMMARY:Thrive!
DESCRIPTION:A welcoming center for youth 22 and under\, offering peer-led\, adult-supported groups for LGBTQ+ youth. Enjoy drop-in hours\, meetings\, field trips\, special events\, and more—all in a safe\, inclusive space that celebrates individuality\, connection\, and community. \nCall (508) 778-7744 to register.
URL:https://capecodfamilyresourcecenter.org/event/thrive/2026-01-05/
LOCATION:We Thrive\, Cape Cod’s LGBTQ+ Youth Center\, 56 Barnstable Road\, Hyannis\, MA\, 02601\, United States
CATEGORIES:For Children & Teens
END:VEVENT
BEGIN:VEVENT
DTSTART;TZID=America/New_York:20260102T100000
DTEND;TZID=America/New_York:20260102T110000
DTSTAMP:20260422T123104
CREATED:20250630T184813Z
LAST-MODIFIED:20250701T130110Z
UID:10001445-1767348000-1767351600@capecodfamilyresourcecenter.org
SUMMARY:Craft Hour
DESCRIPTION:Parent-Child Craft Hour is a fun and relaxed time for families to get creative together! Join us for simple\, hands-on projects that encourage connection\, conversation\, and creativity between parents and children. All supplies are provided—just bring your imagination and enjoy quality time making something special side by side. \nThis is an in-person\, drop in event with no registration needed!
URL:https://capecodfamilyresourcecenter.org/event/craft-hour/2026-01-02/
LOCATION:Cape Cod Family Resource Center\, 29 Bassett Lane\, Hyannis\, MA\, 02601\, United States
CATEGORIES:For Children & Teens
END:VEVENT
BEGIN:VEVENT
DTSTART;TZID=America/New_York:20251229T153000
DTEND;TZID=America/New_York:20251229T173000
DTSTAMP:20260422T123104
CREATED:20250531T134612Z
LAST-MODIFIED:20250923T215331Z
UID:10000033-1767022200-1767029400@capecodfamilyresourcecenter.org
SUMMARY:Thrive!
DESCRIPTION:A welcoming center for youth 22 and under\, offering peer-led\, adult-supported groups for LGBTQ+ youth. Enjoy drop-in hours\, meetings\, field trips\, special events\, and more—all in a safe\, inclusive space that celebrates individuality\, connection\, and community. \nCall (508) 778-7744 to register.
URL:https://capecodfamilyresourcecenter.org/event/thrive/2025-12-29/
LOCATION:We Thrive\, Cape Cod’s LGBTQ+ Youth Center\, 56 Barnstable Road\, Hyannis\, MA\, 02601\, United States
CATEGORIES:For Children & Teens
END:VEVENT
BEGIN:VEVENT
DTSTART;TZID=America/New_York:20251226T100000
DTEND;TZID=America/New_York:20251226T110000
DTSTAMP:20260422T123104
CREATED:20250630T184813Z
LAST-MODIFIED:20250701T130110Z
UID:10001444-1766743200-1766746800@capecodfamilyresourcecenter.org
SUMMARY:Craft Hour
DESCRIPTION:Parent-Child Craft Hour is a fun and relaxed time for families to get creative together! Join us for simple\, hands-on projects that encourage connection\, conversation\, and creativity between parents and children. All supplies are provided—just bring your imagination and enjoy quality time making something special side by side. \nThis is an in-person\, drop in event with no registration needed!
URL:https://capecodfamilyresourcecenter.org/event/craft-hour/2025-12-26/
LOCATION:Cape Cod Family Resource Center\, 29 Bassett Lane\, Hyannis\, MA\, 02601\, United States
CATEGORIES:For Children & Teens
END:VEVENT
BEGIN:VEVENT
DTSTART;TZID=America/New_York:20251222T153000
DTEND;TZID=America/New_York:20251222T173000
DTSTAMP:20260422T123104
CREATED:20250531T134612Z
LAST-MODIFIED:20250923T215331Z
UID:10000032-1766417400-1766424600@capecodfamilyresourcecenter.org
SUMMARY:Thrive!
DESCRIPTION:A welcoming center for youth 22 and under\, offering peer-led\, adult-supported groups for LGBTQ+ youth. Enjoy drop-in hours\, meetings\, field trips\, special events\, and more—all in a safe\, inclusive space that celebrates individuality\, connection\, and community. \nCall (508) 778-7744 to register.
URL:https://capecodfamilyresourcecenter.org/event/thrive/2025-12-22/
LOCATION:We Thrive\, Cape Cod’s LGBTQ+ Youth Center\, 56 Barnstable Road\, Hyannis\, MA\, 02601\, United States
CATEGORIES:For Children & Teens
END:VEVENT
BEGIN:VEVENT
DTSTART;TZID=America/New_York:20251219T100000
DTEND;TZID=America/New_York:20251219T110000
DTSTAMP:20260422T123104
CREATED:20250630T184813Z
LAST-MODIFIED:20250701T130110Z
UID:10001443-1766138400-1766142000@capecodfamilyresourcecenter.org
SUMMARY:Craft Hour
DESCRIPTION:Parent-Child Craft Hour is a fun and relaxed time for families to get creative together! Join us for simple\, hands-on projects that encourage connection\, conversation\, and creativity between parents and children. All supplies are provided—just bring your imagination and enjoy quality time making something special side by side. \nThis is an in-person\, drop in event with no registration needed!
URL:https://capecodfamilyresourcecenter.org/event/craft-hour/2025-12-19/
LOCATION:Cape Cod Family Resource Center\, 29 Bassett Lane\, Hyannis\, MA\, 02601\, United States
CATEGORIES:For Children & Teens
END:VEVENT
BEGIN:VEVENT
DTSTART;TZID=America/New_York:20251215T153000
DTEND;TZID=America/New_York:20251215T173000
DTSTAMP:20260422T123104
CREATED:20250531T134612Z
LAST-MODIFIED:20250923T215331Z
UID:10000031-1765812600-1765819800@capecodfamilyresourcecenter.org
SUMMARY:Thrive!
DESCRIPTION:A welcoming center for youth 22 and under\, offering peer-led\, adult-supported groups for LGBTQ+ youth. Enjoy drop-in hours\, meetings\, field trips\, special events\, and more—all in a safe\, inclusive space that celebrates individuality\, connection\, and community. \nCall (508) 778-7744 to register.
URL:https://capecodfamilyresourcecenter.org/event/thrive/2025-12-15/
LOCATION:We Thrive\, Cape Cod’s LGBTQ+ Youth Center\, 56 Barnstable Road\, Hyannis\, MA\, 02601\, United States
CATEGORIES:For Children & Teens
END:VEVENT
BEGIN:VEVENT
DTSTART;TZID=America/New_York:20251212T100000
DTEND;TZID=America/New_York:20251212T110000
DTSTAMP:20260422T123104
CREATED:20250630T184813Z
LAST-MODIFIED:20250701T130110Z
UID:10001442-1765533600-1765537200@capecodfamilyresourcecenter.org
SUMMARY:Craft Hour
DESCRIPTION:Parent-Child Craft Hour is a fun and relaxed time for families to get creative together! Join us for simple\, hands-on projects that encourage connection\, conversation\, and creativity between parents and children. All supplies are provided—just bring your imagination and enjoy quality time making something special side by side. \nThis is an in-person\, drop in event with no registration needed!
URL:https://capecodfamilyresourcecenter.org/event/craft-hour/2025-12-12/
LOCATION:Cape Cod Family Resource Center\, 29 Bassett Lane\, Hyannis\, MA\, 02601\, United States
CATEGORIES:For Children & Teens
END:VEVENT
BEGIN:VEVENT
DTSTART;TZID=America/New_York:20251208T153000
DTEND;TZID=America/New_York:20251208T173000
DTSTAMP:20260422T123104
CREATED:20250531T134612Z
LAST-MODIFIED:20250923T215331Z
UID:10000030-1765207800-1765215000@capecodfamilyresourcecenter.org
SUMMARY:Thrive!
DESCRIPTION:A welcoming center for youth 22 and under\, offering peer-led\, adult-supported groups for LGBTQ+ youth. Enjoy drop-in hours\, meetings\, field trips\, special events\, and more—all in a safe\, inclusive space that celebrates individuality\, connection\, and community. \nCall (508) 778-7744 to register.
URL:https://capecodfamilyresourcecenter.org/event/thrive/2025-12-08/
LOCATION:We Thrive\, Cape Cod’s LGBTQ+ Youth Center\, 56 Barnstable Road\, Hyannis\, MA\, 02601\, United States
CATEGORIES:For Children & Teens
END:VEVENT
BEGIN:VEVENT
DTSTART;TZID=America/New_York:20251205T100000
DTEND;TZID=America/New_York:20251205T110000
DTSTAMP:20260422T123104
CREATED:20250630T184813Z
LAST-MODIFIED:20250701T130110Z
UID:10001441-1764928800-1764932400@capecodfamilyresourcecenter.org
SUMMARY:Craft Hour
DESCRIPTION:Parent-Child Craft Hour is a fun and relaxed time for families to get creative together! Join us for simple\, hands-on projects that encourage connection\, conversation\, and creativity between parents and children. All supplies are provided—just bring your imagination and enjoy quality time making something special side by side. \nThis is an in-person\, drop in event with no registration needed!
URL:https://capecodfamilyresourcecenter.org/event/craft-hour/2025-12-05/
LOCATION:Cape Cod Family Resource Center\, 29 Bassett Lane\, Hyannis\, MA\, 02601\, United States
CATEGORIES:For Children & Teens
END:VEVENT
BEGIN:VEVENT
DTSTART;TZID=America/New_York:20251201T153000
DTEND;TZID=America/New_York:20251201T173000
DTSTAMP:20260422T123104
CREATED:20250531T134612Z
LAST-MODIFIED:20250923T215331Z
UID:10000029-1764603000-1764610200@capecodfamilyresourcecenter.org
SUMMARY:Thrive!
DESCRIPTION:A welcoming center for youth 22 and under\, offering peer-led\, adult-supported groups for LGBTQ+ youth. Enjoy drop-in hours\, meetings\, field trips\, special events\, and more—all in a safe\, inclusive space that celebrates individuality\, connection\, and community. \nCall (508) 778-7744 to register.
URL:https://capecodfamilyresourcecenter.org/event/thrive/2025-12-01/
LOCATION:We Thrive\, Cape Cod’s LGBTQ+ Youth Center\, 56 Barnstable Road\, Hyannis\, MA\, 02601\, United States
CATEGORIES:For Children & Teens
END:VEVENT
BEGIN:VEVENT
DTSTART;TZID=America/New_York:20251128T100000
DTEND;TZID=America/New_York:20251128T110000
DTSTAMP:20260422T123104
CREATED:20250630T184813Z
LAST-MODIFIED:20250701T130110Z
UID:10001440-1764324000-1764327600@capecodfamilyresourcecenter.org
SUMMARY:Craft Hour
DESCRIPTION:Parent-Child Craft Hour is a fun and relaxed time for families to get creative together! Join us for simple\, hands-on projects that encourage connection\, conversation\, and creativity between parents and children. All supplies are provided—just bring your imagination and enjoy quality time making something special side by side. \nThis is an in-person\, drop in event with no registration needed!
URL:https://capecodfamilyresourcecenter.org/event/craft-hour/2025-11-28/
LOCATION:Cape Cod Family Resource Center\, 29 Bassett Lane\, Hyannis\, MA\, 02601\, United States
CATEGORIES:For Children & Teens
END:VEVENT
END:VCALENDAR