BEGIN:VCALENDAR
VERSION:2.0
PRODID:-//Cape Cod Family Resource Center - ECPv6.15.20//NONSGML v1.0//EN
CALSCALE:GREGORIAN
METHOD:PUBLISH
X-WR-CALNAME:Cape Cod Family Resource Center
X-ORIGINAL-URL:https://capecodfamilyresourcecenter.org
X-WR-CALDESC:Events for Cape Cod Family Resource Center
REFRESH-INTERVAL;VALUE=DURATION:PT1H
X-Robots-Tag:noindex
X-PUBLISHED-TTL:PT1H
BEGIN:VTIMEZONE
TZID:America/New_York
BEGIN:DAYLIGHT
TZOFFSETFROM:-0500
TZOFFSETTO:-0400
TZNAME:EDT
DTSTART:20240310T070000
END:DAYLIGHT
BEGIN:STANDARD
TZOFFSETFROM:-0400
TZOFFSETTO:-0500
TZNAME:EST
DTSTART:20241103T060000
END:STANDARD
BEGIN:DAYLIGHT
TZOFFSETFROM:-0500
TZOFFSETTO:-0400
TZNAME:EDT
DTSTART:20250309T070000
END:DAYLIGHT
BEGIN:STANDARD
TZOFFSETFROM:-0400
TZOFFSETTO:-0500
TZNAME:EST
DTSTART:20251102T060000
END:STANDARD
BEGIN:DAYLIGHT
TZOFFSETFROM:-0500
TZOFFSETTO:-0400
TZNAME:EDT
DTSTART:20260308T070000
END:DAYLIGHT
BEGIN:STANDARD
TZOFFSETFROM:-0400
TZOFFSETTO:-0500
TZNAME:EST
DTSTART:20261101T060000
END:STANDARD
END:VTIMEZONE
BEGIN:VEVENT
DTSTART;TZID=America/New_York:20251208T080000
DTEND;TZID=America/New_York:20251208T180000
DTSTAMP:20260419T114517
CREATED:20251014T140827Z
LAST-MODIFIED:20251014T140827Z
UID:10003637-1765180800-1765216800@capecodfamilyresourcecenter.org
SUMMARY:Food Pantry and Diaper Depot
DESCRIPTION:Our Food Pantry and Diaper Depot have new operating hours! \nMonday: 8 AM – 6 PM \nWednesday: 8 AM – 5 PM \nFriday: 9 AM – 4 PM \nPlease plan your visit accordingly!
URL:https://capecodfamilyresourcecenter.org/event/food-pantry-and-diaper-depot/2025-12-08/
LOCATION:Cape Cod Family Resource Center\, 29 Bassett Lane\, Hyannis\, MA\, 02601\, United States
CATEGORIES:For Parents & Caregivers
END:VEVENT
BEGIN:VEVENT
DTSTART;TZID=America/New_York:20251208T153000
DTEND;TZID=America/New_York:20251208T173000
DTSTAMP:20260419T114517
CREATED:20250531T134612Z
LAST-MODIFIED:20250923T215331Z
UID:10000030-1765207800-1765215000@capecodfamilyresourcecenter.org
SUMMARY:Thrive!
DESCRIPTION:A welcoming center for youth 22 and under\, offering peer-led\, adult-supported groups for LGBTQ+ youth. Enjoy drop-in hours\, meetings\, field trips\, special events\, and more—all in a safe\, inclusive space that celebrates individuality\, connection\, and community. \nCall (508) 778-7744 to register.
URL:https://capecodfamilyresourcecenter.org/event/thrive/2025-12-08/
LOCATION:We Thrive\, Cape Cod’s LGBTQ+ Youth Center\, 56 Barnstable Road\, Hyannis\, MA\, 02601\, United States
CATEGORIES:For Children & Teens
END:VEVENT
BEGIN:VEVENT
DTSTART;TZID=America/New_York:20251208T180000
DTEND;TZID=America/New_York:20251208T200000
DTSTAMP:20260419T114517
CREATED:20250623T144432Z
LAST-MODIFIED:20250829T173649Z
UID:10003182-1765216800-1765224000@capecodfamilyresourcecenter.org
SUMMARY:Nurturing Fathers
DESCRIPTION:A 13-week interactive group for fathers\, designed to strengthen parenting skills and attitudes. Through engaging activities\, dads learn to replace ineffective habits with nurturing and effective strategies for raising children. \nThis event is in-person with dinner provided. Call (508) 815-5100 to register.
URL:https://capecodfamilyresourcecenter.org/event/nurturing-fathers/2025-12-08/
LOCATION:Cape Cod Family Resource Center\, 29 Bassett Lane\, Hyannis\, MA\, 02601\, United States
CATEGORIES:For Parents & Caregivers
END:VEVENT
END:VCALENDAR